Workbook

Sheet Instructions
E9: 1. Each board of elections who conducts a traditional, percentage-based post-election audit must use this workbook to perform and record the audit results. Instructions for conducting the post-election audit are found in Election Official Manual, Chapter 11, section 11.03.
E10: 2. Complete all spreadsheets found in the Excel Workbook.
E11: 3. Complete the fields in the 1. Basic Information spreadsheet. The spreadsheet will calculate the 5% of ballots to audit. This information will automatically poplulate at the top of the 4. Results Input spreadsheet.
E12: 4. Complete the 2. Unit Calculation spreadsheet to calculate the number of units to select for the audit. Enter the name of and the total number of votes cast and counted for each unit audited. - If the unit type audited is a polling location or precinct, the board must include the total number of ballots cast and counted including absentee and provisional ballots cast and counted (do not include absentee and provisional ballots cast but uncounted). - Each board must select at least two units (polling locations, precincts, or voting machines) to audit, even if the initial unit selected is equal to or over 5% of the total ballots cast and counted. - The board must continue to select units until the total number of ballots cast is equal to or greater than 5% of the total ballots cast and counted in the election. The spreadsheet will provide an alert when the 5% has been chosen. - The number of ballots selected and the number of units will populate in the 4. Results Input spreadsheet.
E13: 5. For the units being audited, include the cumulative total for each candidate, including a cumulative total for all ballots with a write-in candidate selection, as well as the number of ballots with an over or under vote for that contest. This total, when auditing by precinct and polling location, should include all ballots cast (including Election Day, counted absentee, and counted provisional ballots). As an example, if the first unit being audited had 200 ballots cast for a given candidate and the second unit had 300 votes for that same candidate, then the cumulative total is 500.
E14: 6. Complete the 3. Unit Questions spreadsheet.
E15: 7. Complete the 4. Results Input spreadsheet. - If a discrepancy exists, the board must clearly identify the discrepancy and provide an explanation that provides information as to (a) the specific unit(s) affected, (b) the type of ballots affected, and (c) the reason for the difference. - If a difference exists for a particular candidate or response, the audit field will turn yellow to indicate the difference. -Any time a difference exists, the board must provide a reason for the discrepancy. Note: The workbook is designed so that the absolute value of each discrepancy is calculated in the Accuracy Rate. Therefore, even if the Total Ballots Cast corresponding to the official canvass and audit totals are equal, a discrepancy may still exist if the totals for the candidates offset one another. - The board must escalate the audit if the Accuracy Rate is less than 99.5% and the margin of victory is greater than 1%. - The board must escalate the audit if the Accuracy Rate is less than 99.8% and the margin of victory is less than 1%.
E16: 8. To submit the Form, print the 4. Results Input spreadsheet and acquire the necessary signatures. Name the signed and scanned form "[County Name] 3-19-24 Post-Election Audit Signature Form".
E17: 9. Finally, email the complete workbook, and signed 4. Results Input form to results@ohiosos.gov.

Sheet 1. Basic Information
A1: County Name | B1: Number of Ballots Cast | C1: Units Audited (Select From Dropdown List
B2: 0
A3: Calculated Ballots to be Audited
A4: =B2*0.05 -> 0

Sheet 2. Unit Calculation
A1: Number of Ballots to Select | B1: ='1. Basic Information'!A4 -> 0
A2: You MUST enter at least 2 units for the form to pass
A3: Unit Type | B3: Unit Name | C3: Number of Ballots per Unit | D3: Number of Ballots Remaining to Select | E3: Status
A4: ='4. Results Input'!C2 -> 0 | B4: Polling Location 1 | D4: ='1. Basic Information'!A4-C4 -> 0 | E4: =IF(C5=0,"You MUST enter at least 2 units for the form to pass","") -> You MUST enter at least 2 units for the form to pass
A5: =A4 -> 0 | D5: =D4-C5 -> 0 | E5: =IF(ISBLANK(C5),"",IF(SUM(Table1[[Number of Ballots per Unit ]])<B1,"Select More Units to Audit","STOP - Selection Completed"))
A6: =A5 -> 0 | D6: =D5-C6 -> 0 | E6: =IF(ISBLANK(C6),"",IF(SUM(Table1[[Number of Ballots per Unit ]])<B1,"Select More Units to Audit","STOP - Selection Completed"))
A7: =A6 -> 0 | B7: <<Enter Unit Name>> | D7: =D6-C7 -> 0 | E7: =IF(ISBLANK(C7),"",IF(SUM(Table1[[Number of Ballots per Unit ]])<B1,"Select More Units to Audit","STOP - Selection Completed"))
A8: =A7 -> 0 | B8: <<Enter Unit Name>> | D8: =D7-C8 -> 0 | E8: =IF(ISBLANK(C8),"",IF(SUM(Table1[[Number of Ballots per Unit ]])<B1,"Select More Units to Audit","STOP - Selection Completed"))
A9: =A8 -> 0 | B9: <<Enter Unit Name>> | D9: =D8-C9 -> 0 | E9: =IF(ISBLANK(C9),"",IF(SUM(Table1[[Number of Ballots per Unit ]])<B1,"Select More Units to Audit","STOP - Selection Completed"))
A10: =A9 -> 0 | B10: <<Enter Unit Name>> | D10: =D9-C10 -> 0 | E10: =IF(ISBLANK(C10),"",IF(SUM(Table1[[Number of Ballots per Unit ]])<B1,"Select More Units to Audit","STOP - Selection Completed"))
A11: =A10 -> 0 | B11: <<Enter Unit Name>> | D11: =D10-C11 -> 0 | E11: =IF(ISBLANK(C11),"",IF(SUM(Table1[[Number of Ballots per Unit ]])<B1,"Select More Units to Audit","STOP - Selection Completed"))
A12: =A11 -> 0 | B12: <<Enter Unit Name>> | D12: =D11-C12 -> 0 | E12: =IF(ISBLANK(C12),"",IF(SUM(Table1[[Number of Ballots per Unit ]])<B1,"Select More Units to Audit","STOP - Selection Completed"))
A13: =A12 -> 0 | B13: <<Enter Unit Name>> | D13: =D12-C13 -> 0 | E13: =IF(ISBLANK(C13),"",IF(SUM(Table1[[Number of Ballots per Unit ]])<B1,"Select More Units to Audit","STOP - Selection Completed"))
A14: =A13 -> 0 | B14: <<Enter Unit Name>> | D14: =D13-C14 -> 0 | E14: =IF(ISBLANK(C14),"",IF(SUM(Table1[[Number of Ballots per Unit ]])<B1,"Select More Units to Audit","STOP - Selection Completed"))
A15: =A14 -> 0 | B15: <<Enter Unit Name>> | D15: =D14-C15 -> 0 | E15: =IF(ISBLANK(C15),"",IF(SUM(Table1[[Number of Ballots per Unit ]])<B1,"Select More Units to Audit","STOP - Selection Completed"))
A16: =A15 -> 0 | B16: <<Enter Unit Name>> | D16: =D15-C16 -> 0 | E16: =IF(ISBLANK(C16),"",IF(SUM(Table1[[Number of Ballots per Unit ]])<B1,"Select More Units to Audit","STOP - Selection Completed"))
A17: =A16 -> 0 | B17: <<Enter Unit Name>> | D17: =D16-C17 -> 0 | E17: =IF(ISBLANK(C17),"",IF(SUM(Table1[[Number of Ballots per Unit ]])<B1,"Select More Units to Audit","STOP - Selection Completed"))
A18: =A17 -> 0 | B18: <<Enter Unit Name>> | D18: =D17-C18 -> 0 | E18: =IF(ISBLANK(C18),"",IF(SUM(Table1[[Number of Ballots per Unit ]])<B1,"Select More Units to Audit","STOP - Selection Completed"))
A19: =A18 -> 0 | B19: <<Enter Unit Name>> | D19: =D18-C19 -> 0 | E19: =IF(ISBLANK(C19),"",IF(SUM(Table1[[Number of Ballots per Unit ]])<B1,"Select More Units to Audit","STOP - Selection Completed"))
A20: =A19 -> 0 | B20: <<Enter Unit Name>> | D20: =D19-C20 -> 0 | E20: =IF(ISBLANK(C20),"",IF(SUM(Table1[[Number of Ballots per Unit ]])<B1,"Select More Units to Audit","STOP - Selection Completed"))
A21: =A20 -> 0 | B21: <<Enter Unit Name>> | D21: =D20-C21 -> 0 | E21: =IF(ISBLANK(C21),"",IF(SUM(Table1[[Number of Ballots per Unit ]])<B1,"Select More Units to Audit","STOP - Selection Completed"))
A22: =A21 -> 0 | B22: <<Enter Unit Name>> | D22: =D21-C22 -> 0 | E22: =IF(ISBLANK(C22),"",IF(SUM(Table1[[Number of Ballots per Unit ]])<B1,"Select More Units to Audit","STOP - Selection Completed"))
A23: =A22 -> 0 | B23: <<Enter Unit Name>> | D23: =D22-C23 -> 0 | E23: =IF(ISBLANK(C23),"",IF(SUM(Table1[[Number of Ballots per Unit ]])<B1,"Select More Units to Audit","STOP - Selection Completed"))
A24: =A23 -> 0 | B24: <<Enter Unit Name>> | D24: =D23-C24 -> 0 | E24: =IF(ISBLANK(C24),"",IF(SUM(Table1[[Number of Ballots per Unit ]])<B1,"Select More Units to Audit","STOP - Selection Completed"))
A25: =A24 -> 0 | B25: <<Enter Unit Name>> | D25: =D24-C25 -> 0 | E25: =IF(ISBLANK(C25),"",IF(SUM(Table1[[Number of Ballots per Unit ]])<B1,"Select More Units to Audit","STOP - Selection Completed"))
A26: =A25 -> 0 | B26: <<Enter Unit Name>> | D26: =D25-C26 -> 0 | E26: =IF(ISBLANK(C26),"",IF(SUM(Table1[[Number of Ballots per Unit ]])<B1,"Select More Units to Audit","STOP - Selection Completed"))
A27: =A26 -> 0 | B27: <<Enter Unit Name>> | D27: =D26-C27 -> 0 | E27: =IF(ISBLANK(C27),"",IF(SUM(Table1[[Number of Ballots per Unit ]])<B1,"Select More Units to Audit","STOP - Selection Completed"))
A28: =A27 -> 0 | B28: <<Enter Unit Name>> | D28: =D27-C28 -> 0 | E28: =IF(ISBLANK(C28),"",IF(SUM(Table1[[Number of Ballots per Unit ]])<B1,"Select More Units to Audit","STOP - Selection Completed"))
A29: =A28 -> 0 | B29: <<Enter Unit Name>> | D29: =D28-C29 -> 0 | E29: =IF(ISBLANK(C29),"",IF(SUM(Table1[[Number of Ballots per Unit ]])<B1,"Select More Units to Audit","STOP - Selection Completed"))
A30: =A29 -> 0 | B30: <<Enter Unit Name>> | D30: =D29-C30 -> 0 | E30: =IF(ISBLANK(C30),"",IF(SUM(Table1[[Number of Ballots per Unit ]])<B1,"Select More Units to Audit","STOP - Selection Completed"))
A31: =A30 -> 0 | B31: <<Enter Unit Name>> | D31: =D30-C31 -> 0 | E31: =IF(ISBLANK(C31),"",IF(SUM(Table1[[Number of Ballots per Unit ]])<B1,"Select More Units to Audit","STOP - Selection Completed"))
A32: =A31 -> 0 | B32: <<Enter Unit Name>> | D32: =D31-C32 -> 0 | E32: =IF(ISBLANK(C32),"",IF(SUM(Table1[[Number of Ballots per Unit ]])<B1,"Select More Units to Audit","STOP - Selection Completed"))
A33: =A32 -> 0 | B33: <<Enter Unit Name>> | D33: =D32-C33 -> 0 | E33: =IF(ISBLANK(C33),"",IF(SUM(Table1[[Number of Ballots per Unit ]])<B1,"Select More Units to Audit","STOP - Selection Completed"))
A34: =A33 -> 0 | B34: <<Enter Unit Name>> | D34: =D33-C34 -> 0 | E34: =IF(ISBLANK(C34),"",IF(SUM(Table1[[Number of Ballots per Unit ]])<B1,"Select More Units to Audit","STOP - Selection Completed"))
A35: =A34 -> 0 | B35: <<Enter Unit Name>> | D35: =D34-C35 -> 0 | E35: =IF(ISBLANK(C35),"",IF(SUM(Table1[[Number of Ballots per Unit ]])<B1,"Select More Units to Audit","STOP - Selection Completed"))
A36: =A35 -> 0 | B36: <<Enter Unit Name>> | D36: =D35-C36 -> 0 | E36: =IF(ISBLANK(C36),"",IF(SUM(Table1[[Number of Ballots per Unit ]])<B1,"Select More Units to Audit","STOP - Selection Completed"))
A37: =A36 -> 0 | B37: <<Enter Unit Name>> | D37: =D36-C37 -> 0 | E37: =IF(ISBLANK(C37),"",IF(SUM(Table1[[Number of Ballots per Unit ]])<B1,"Select More Units to Audit","STOP - Selection Completed"))
A38: =A37 -> 0 | B38: <<Enter Unit Name>> | D38: =D37-C38 -> 0 | E38: =IF(ISBLANK(C38),"",IF(SUM(Table1[[Number of Ballots per Unit ]])<B1,"Select More Units to Audit","STOP - Selection Completed"))
A39: =A38 -> 0 | B39: <<Enter Unit Name>> | D39: =D38-C39 -> 0 | E39: =IF(ISBLANK(C39),"",IF(SUM(Table1[[Number of Ballots per Unit ]])<B1,"Select More Units to Audit","STOP - Selection Completed"))
A40: =A39 -> 0 | B40: <<Enter Unit Name>> | D40: =D39-C40 -> 0 | E40: =IF(ISBLANK(C40),"",IF(SUM(Table1[[Number of Ballots per Unit ]])<B1,"Select More Units to Audit","STOP - Selection Completed"))
A41: =A40 -> 0 | B41: <<Enter Unit Name>> | D41: =D40-C41 -> 0 | E41: =IF(ISBLANK(C41),"",IF(SUM(Table1[[Number of Ballots per Unit ]])<B1,"Select More Units to Audit","STOP - Selection Completed"))
A42: =A41 -> 0 | B42: <<Enter Unit Name>> | D42: =D41-C42 -> 0 | E42: =IF(ISBLANK(C42),"",IF(SUM(Table1[[Number of Ballots per Unit ]])<B1,"Select More Units to Audit","STOP - Selection Completed"))
A43: =A42 -> 0 | B43: <<Enter Unit Name>> | D43: =D42-C43 -> 0 | E43: =IF(ISBLANK(C43),"",IF(SUM(Table1[[Number of Ballots per Unit ]])<B1,"Select More Units to Audit","STOP - Selection Completed"))
A44: =A43 -> 0 | B44: <<Enter Unit Name>> | D44: =D43-C44 -> 0 | E44: =IF(ISBLANK(C44),"",IF(SUM(Table1[[Number of Ballots per Unit ]])<B1,"Select More Units to Audit","STOP - Selection Completed"))
A45: =A44 -> 0 | B45: <<Enter Unit Name>> | D45: =D44-C45 -> 0 | E45: =IF(ISBLANK(C45),"",IF(SUM(Table1[[Number of Ballots per Unit ]])<B1,"Select More Units to Audit","STOP - Selection Completed"))
A46: =A45 -> 0 | B46: <<Enter Unit Name>> | D46: =D45-C46 -> 0 | E46: =IF(ISBLANK(C46),"",IF(SUM(Table1[[Number of Ballots per Unit ]])<B1,"Select More Units to Audit","STOP - Selection Completed"))
A47: =A46 -> 0 | B47: <<Enter Unit Name>> | D47: =D46-C47 -> 0 | E47: =IF(ISBLANK(C47),"",IF(SUM(Table1[[Number of Ballots per Unit ]])<B1,"Select More Units to Audit","STOP - Selection Completed"))
A48: =A47 -> 0 | B48: <<Enter Unit Name>> | D48: =D47-C48 -> 0 | E48: =IF(ISBLANK(C48),"",IF(SUM(Table1[[Number of Ballots per Unit ]])<B1,"Select More Units to Audit","STOP - Selection Completed"))
A49: =A48 -> 0 | B49: <<Enter Unit Name>> | D49: =D48-C49 -> 0 | E49: =IF(ISBLANK(C49),"",IF(SUM(Table1[[Number of Ballots per Unit ]])<B1,"Select More Units to Audit","STOP - Selection Completed"))
A50: =A49 -> 0 | B50: <<Enter Unit Name>> | D50: =D49-C50 -> 0 | E50: =IF(ISBLANK(C50),"",IF(SUM(Table1[[Number of Ballots per Unit ]])<B1,"Select More Units to Audit","STOP - Selection Completed"))
A51: =A50 -> 0 | B51: <<Enter Unit Name>> | D51: =D50-C51 -> 0 | E51: =IF(ISBLANK(C51),"",IF(SUM(Table1[[Number of Ballots per Unit ]])<B1,"Select More Units to Audit","STOP - Selection Completed"))
A52: =A51 -> 0 | B52: <<Enter Unit Name>> | D52: =D51-C52 -> 0 | E52: =IF(ISBLANK(C52),"",IF(SUM(Table1[[Number of Ballots per Unit ]])<B1,"Select More Units to Audit","STOP - Selection Completed"))
A53: =A52 -> 0 | B53: <<Enter Unit Name>> | D53: =D52-C53 -> 0 | E53: =IF(ISBLANK(C53),"",IF(SUM(Table1[[Number of Ballots per Unit ]])<B1,"Select More Units to Audit","STOP - Selection Completed"))
A54: =A53 -> 0 | B54: <<Enter Unit Name>> | D54: =D53-C54 -> 0 | E54: =IF(ISBLANK(C54),"",IF(SUM(Table1[[Number of Ballots per Unit ]])<B1,"Select More Units to Audit","STOP - Selection Completed"))
A55: =A54 -> 0 | B55: <<Enter Unit Name>> | D55: =D54-C55 -> 0 | E55: =IF(ISBLANK(C55),"",IF(SUM(Table1[[Number of Ballots per Unit ]])<B1,"Select More Units to Audit","STOP - Selection Completed"))
A56: =A55 -> 0 | B56: <<Enter Unit Name>> | D56: =D55-C56 -> 0 | E56: =IF(ISBLANK(C56),"",IF(SUM(Table1[[Number of Ballots per Unit ]])<B1,"Select More Units to Audit","STOP - Selection Completed"))
A57: =A56 -> 0 | B57: <<Enter Unit Name>> | D57: =D56-C57 -> 0 | E57: =IF(ISBLANK(C57),"",IF(SUM(Table1[[Number of Ballots per Unit ]])<B1,"Select More Units to Audit","STOP - Selection Completed"))
A58: =A57 -> 0 | B58: <<Enter Unit Name>> | D58: =D57-C58 -> 0 | E58: =IF(ISBLANK(C58),"",IF(SUM(Table1[[Number of Ballots per Unit ]])<B1,"Select More Units to Audit","STOP - Selection Completed"))
A59: =A58 -> 0 | B59: <<Enter Unit Name>> | D59: =D58-C59 -> 0 | E59: =IF(ISBLANK(C59),"",IF(SUM(Table1[[Number of Ballots per Unit ]])<B1,"Select More Units to Audit","STOP - Selection Completed"))
A60: =A59 -> 0 | B60: <<Enter Unit Name>> | D60: =D59-C60 -> 0 | E60: =IF(ISBLANK(C60),"",IF(SUM(Table1[[Number of Ballots per Unit ]])<B1,"Select More Units to Audit","STOP - Selection Completed"))
A61: =A60 -> 0 | B61: <<Enter Unit Name>> | D61: =D60-C61 -> 0 | E61: =IF(ISBLANK(C61),"",IF(SUM(Table1[[Number of Ballots per Unit ]])<B1,"Select More Units to Audit","STOP - Selection Completed"))
A62: =A61 -> 0 | B62: <<Enter Unit Name>> | D62: =D61-C62 -> 0 | E62: =IF(ISBLANK(C62),"",IF(SUM(Table1[[Number of Ballots per Unit ]])<B1,"Select More Units to Audit","STOP - Selection Completed"))
A63: =A62 -> 0 | B63: <<Enter Unit Name>> | D63: =D62-C63 -> 0 | E63: =IF(ISBLANK(C63),"",IF(SUM(Table1[[Number of Ballots per Unit ]])<B1,"Select More Units to Audit","STOP - Selection Completed"))
A64: =A63 -> 0 | B64: <<Enter Unit Name>> | D64: =D63-C64 -> 0 | E64: =IF(ISBLANK(C64),"",IF(SUM(Table1[[Number of Ballots per Unit ]])<B1,"Select More Units to Audit","STOP - Selection Completed"))
A65: =A64 -> 0 | B65: <<Enter Unit Name>> | D65: =D64-C65 -> 0 | E65: =IF(ISBLANK(C65),"",IF(SUM(Table1[[Number of Ballots per Unit ]])<B1,"Select More Units to Audit","STOP - Selection Completed"))
A66: =A65 -> 0 | B66: <<Enter Unit Name>> | D66: =D65-C66 -> 0 | E66: =IF(ISBLANK(C66),"",IF(SUM(Table1[[Number of Ballots per Unit ]])<B1,"Select More Units to Audit","STOP - Selection Completed"))
A67: =A66 -> 0 | B67: <<Enter Unit Name>> | D67: =D66-C67 -> 0 | E67: =IF(ISBLANK(C67),"",IF(SUM(Table1[[Number of Ballots per Unit ]])<B1,"Select More Units to Audit","STOP - Selection Completed"))
A68: =A67 -> 0 | B68: <<Enter Unit Name>> | D68: =D67-C68 -> 0 | E68: =IF(ISBLANK(C68),"",IF(SUM(Table1[[Number of Ballots per Unit ]])<B1,"Select More Units to Audit","STOP - Selection Completed"))
A69: =A68 -> 0 | B69: <<Enter Unit Name>> | D69: =D68-C69 -> 0 | E69: =IF(ISBLANK(C69),"",IF(SUM(Table1[[Number of Ballots per Unit ]])<B1,"Select More Units to Audit","STOP - Selection Completed"))
A70: =A69 -> 0 | B70: <<Enter Unit Name>> | D70: =D69-C70 -> 0 | E70: =IF(ISBLANK(C70),"",IF(SUM(Table1[[Number of Ballots per Unit ]])<B1,"Select More Units to Audit","STOP - Selection Completed"))
A71: =A70 -> 0 | B71: <<Enter Unit Name>> | D71: =D70-C71 -> 0 | E71: =IF(ISBLANK(C71),"",IF(SUM(Table1[[Number of Ballots per Unit ]])<B1,"Select More Units to Audit","STOP - Selection Completed"))
A72: =A71 -> 0 | B72: <<Enter Unit Name>> | D72: =D71-C72 -> 0 | E72: =IF(ISBLANK(C72),"",IF(SUM(Table1[[Number of Ballots per Unit ]])<B1,"Select More Units to Audit","STOP - Selection Completed"))
A73: =A72 -> 0 | B73: <<Enter Unit Name>> | D73: =D72-C73 -> 0 | E73: =IF(ISBLANK(C73),"",IF(SUM(Table1[[Number of Ballots per Unit ]])<B1,"Select More Units to Audit","STOP - Selection Completed"))
A74: =A73 -> 0 | B74: <<Enter Unit Name>> | D74: =D73-C74 -> 0 | E74: =IF(ISBLANK(C74),"",IF(SUM(Table1[[Number of Ballots per Unit ]])<B1,"Select More Units to Audit","STOP - Selection Completed"))
A75: =A74 -> 0 | B75: <<Enter Unit Name>> | D75: =D74-C75 -> 0 | E75: =IF(ISBLANK(C75),"",IF(SUM(Table1[[Number of Ballots per Unit ]])<B1,"Select More Units to Audit","STOP - Selection Completed"))
A76: =A75 -> 0 | B76: <<Enter Unit Name>> | D76: =D75-C76 -> 0 | E76: =IF(ISBLANK(C76),"",IF(SUM(Table1[[Number of Ballots per Unit ]])<B1,"Select More Units to Audit","STOP - Selection Completed"))
A77: =A76 -> 0 | B77: <<Enter Unit Name>> | D77: =D76-C77 -> 0 | E77: =IF(ISBLANK(C77),"",IF(SUM(Table1[[Number of Ballots per Unit ]])<B1,"Select More Units to Audit","STOP - Selection Completed"))
A78: =A77 -> 0 | B78: <<Enter Unit Name>> | D78: =D77-C78 -> 0 | E78: =IF(ISBLANK(C78),"",IF(SUM(Table1[[Number of Ballots per Unit ]])<B1,"Select More Units to Audit","STOP - Selection Completed"))
A79: =A78 -> 0 | B79: <<Enter Unit Name>> | D79: =D78-C79 -> 0 | E79: =IF(ISBLANK(C79),"",IF(SUM(Table1[[Number of Ballots per Unit ]])<B1,"Select More Units to Audit","STOP - Selection Completed"))
A80: =A79 -> 0 | B80: <<Enter Unit Name>> | D80: =D79-C80 -> 0 | E80: =IF(ISBLANK(C80),"",IF(SUM(Table1[[Number of Ballots per Unit ]])<B1,"Select More Units to Audit","STOP - Selection Completed"))
A81: =A80 -> 0 | B81: <<Enter Unit Name>> | D81: =D80-C81 -> 0 | E81: =IF(ISBLANK(C81),"",IF(SUM(Table1[[Number of Ballots per Unit ]])<B1,"Select More Units to Audit","STOP - Selection Completed"))
A82: =A81 -> 0 | B82: <<Enter Unit Name>> | D82: =D81-C82 -> 0 | E82: =IF(ISBLANK(C82),"",IF(SUM(Table1[[Number of Ballots per Unit ]])<B1,"Select More Units to Audit","STOP - Selection Completed"))
A83: =A82 -> 0 | B83: <<Enter Unit Name>> | D83: =D82-C83 -> 0 | E83: =IF(ISBLANK(C83),"",IF(SUM(Table1[[Number of Ballots per Unit ]])<B1,"Select More Units to Audit","STOP - Selection Completed"))
A84: =A83 -> 0 | B84: <<Enter Unit Name>> | D84: =D83-C84 -> 0 | E84: =IF(ISBLANK(C84),"",IF(SUM(Table1[[Number of Ballots per Unit ]])<B1,"Select More Units to Audit","STOP - Selection Completed"))
A85: =A84 -> 0 | B85: <<Enter Unit Name>> | D85: =D84-C85 -> 0 | E85: =IF(ISBLANK(C85),"",IF(SUM(Table1[[Number of Ballots per Unit ]])<B1,"Select More Units to Audit","STOP - Selection Completed"))
A86: =A85 -> 0 | B86: <<Enter Unit Name>> | D86: =D85-C86 -> 0 | E86: =IF(ISBLANK(C86),"",IF(SUM(Table1[[Number of Ballots per Unit ]])<B1,"Select More Units to Audit","STOP - Selection Completed"))
A87: =A86 -> 0 | B87: <<Enter Unit Name>> | D87: =D86-C87 -> 0 | E87: =IF(ISBLANK(C87),"",IF(SUM(Table1[[Number of Ballots per Unit ]])<B1,"Select More Units to Audit","STOP - Selection Completed"))
A88: =A87 -> 0 | B88: <<Enter Unit Name>> | D88: =D87-C88 -> 0 | E88: =IF(ISBLANK(C88),"",IF(SUM(Table1[[Number of Ballots per Unit ]])<B1,"Select More Units to Audit","STOP - Selection Completed"))
A89: =A88 -> 0 | B89: <<Enter Unit Name>> | D89: =D88-C89 -> 0 | E89: =IF(ISBLANK(C89),"",IF(SUM(Table1[[Number of Ballots per Unit ]])<B1,"Select More Units to Audit","STOP - Selection Completed"))
A90: =A89 -> 0 | B90: <<Enter Unit Name>> | D90: =D89-C90 -> 0 | E90: =IF(ISBLANK(C90),"",IF(SUM(Table1[[Number of Ballots per Unit ]])<B1,"Select More Units to Audit","STOP - Selection Completed"))
A91: =A90 -> 0 | B91: <<Enter Unit Name>> | D91: =D90-C91 -> 0 | E91: =IF(ISBLANK(C91),"",IF(SUM(Table1[[Number of Ballots per Unit ]])<B1,"Select More Units to Audit","STOP - Selection Completed"))
A92: =A91 -> 0 | B92: <<Enter Unit Name>> | D92: =D91-C92 -> 0 | E92: =IF(ISBLANK(C92),"",IF(SUM(Table1[[Number of Ballots per Unit ]])<B1,"Select More Units to Audit","STOP - Selection Completed"))
A93: =A92 -> 0 | B93: <<Enter Unit Name>> | D93: =D92-C93 -> 0 | E93: =IF(ISBLANK(C93),"",IF(SUM(Table1[[Number of Ballots per Unit ]])<B1,"Select More Units to Audit","STOP - Selection Completed"))
A94: =A93 -> 0 | B94: <<Enter Unit Name>> | D94: =D93-C94 -> 0 | E94: =IF(ISBLANK(C94),"",IF(SUM(Table1[[Number of Ballots per Unit ]])<B1,"Select More Units to Audit","STOP - Selection Completed"))
A95: =A94 -> 0 | B95: <<Enter Unit Name>> | D95: =D94-C95 -> 0 | E95: =IF(ISBLANK(C95),"",IF(SUM(Table1[[Number of Ballots per Unit ]])<B1,"Select More Units to Audit","STOP - Selection Completed"))
A96: =A95 -> 0 | B96: <<Enter Unit Name>> | D96: =D95-C96 -> 0 | E96: =IF(ISBLANK(C96),"",IF(SUM(Table1[[Number of Ballots per Unit ]])<B1,"Select More Units to Audit","STOP - Selection Completed"))
A97: =A96 -> 0 | B97: <<Enter Unit Name>> | D97: =D96-C97 -> 0 | E97: =IF(ISBLANK(C97),"",IF(SUM(Table1[[Number of Ballots per Unit ]])<B1,"Select More Units to Audit","STOP - Selection Completed"))
A98: =A97 -> 0 | B98: <<Enter Unit Name>> | D98: =D97-C98 -> 0 | E98: =IF(ISBLANK(C98),"",IF(SUM(Table1[[Number of Ballots per Unit ]])<B1,"Select More Units to Audit","STOP - Selection Completed"))
A99: =A98 -> 0 | B99: <<Enter Unit Name>> | D99: =D98-C99 -> 0 | E99: =IF(ISBLANK(C99),"",IF(SUM(Table1[[Number of Ballots per Unit ]])<B1,"Select More Units to Audit","STOP - Selection Completed"))
A100: =A99 -> 0 | B100: <<Enter Unit Name>> | D100: =D99-C100 -> 0 | E100: =IF(ISBLANK(C100),"",IF(SUM(Table1[[Number of Ballots per Unit ]])<B1,"Select More Units to Audit","STOP - Selection Completed"))
...

Sheet 3. Unit Questions
E4: Audit Questions Please answer the following questions. If "NO" is the response to any of the questions, the board must provide an explanation for the discrepancy in the space provided providing details about the affected units.
E5: Questions | F5: Response | G5: If "NO," please provide a reason for responding "NO" to the question. Be specific and include details on the units and types of ballots affected and any information determined to be relevant to describe the discrepancy.
E6: 1. Were the optical scan ballots properly sealed after transport from the polling locations?
E7: 2. Were the Voter Verified Paper Audit Trail (VVPAT) canisters properly sealed?
E8: 3. Did the serial number(s) on the security seal(s) match the serial number on the security seal(s) as recorded?
E9: 4. Did the ballot reconciliation charts balance?
E10: 5. Was the zero report located and did it contain only zeros?
E11: 6. Was the ballot chain of custody form properly completed?
E12: 7. Did the number of ballots cast equal the number of voters?

Sheet 4. Results Input
A1: County Name | B1: Number of Ballots Cast | C1: Units Audited (Select From Dropdown List
A2: ='1. Basic Information'!A2 -> 0 | B2: ='1. Basic Information'!B2 -> 0 | C2: ='1. Basic Information'!C2 -> 0
A3: Calculated % | B3: Number of Ballots Selected | C3: Number of Units Selected
A4: ='1. Basic Information'!A4 -> 0 | B4: =SUM(Table1[[Number of Ballots per Unit ]]) -> 0 | C4: =COUNTIF('2. Unit Calculation'!C:C,">"&0) -> 0
A6: Republican Contest: | B6: Delegates-at-Large and Alternates-at-Large to the Republican National Convention
A7: Candidates | B7: Candidate Votes - Official Canvass | C7: Candidate Votes - Audit
A8: Chris Christie | B8: 0 | C8: 0
A9: Ron DeSantis | B9: 0 | C9: 0
A10: Nikki R. Haley | B10: 0 | C10: 0
A11: Vivek Ramaswamy | B11: 0 | C11: 0
A12: Donald J. Trump | B12: 0 | C12: 0
A13: Over Votes | B13: 0 | C13: 0
A14: Under Votes | B14: 0 | C14: 0
A15: Difference Chris | B15: =ABS(B8-C8) -> 0
A16: Difference Ron | B16: =ABS(B9-C9) -> 0
A17: Difference Nikki | B17: =ABS(B10-C10) -> 0
A18: Difference Vivek | B18: =ABS(B11-C11) -> 0
A19: Differece Donald | B19: =ABS(B12-C12) -> 0
A20: Difference Over | B20: =ABS(B13-C13) -> 0
A21: Difference Under | B21: =ABS(B14-C14) -> 0
A22: Total Ballots Cast | B22: =SUM(B8:B14) -> 0
A23: Accuracy Rate | B23: =1-(SUM(B15:B21)/B22) -> #DIV/0!
A24: Input a explanation of the discrapancy: | D24: =IF(B23<=99.8%,"The board must escalate the audit if the Accuracy Rate is less than 99.5% and the margin of victory is greater than 1% or if the Accuracy Rate is less than 99.8% and the margin of victory is less than 1%","PASS") -> #DIV/0!
A26: Democratic Contest: | B26: Justice of the Supreme Court (Unexpired term ending 12/31/2026)
A27: Candidates | B27: Candidate Votes - Official Canvass | C27: Candidate Votes - Audit
A28: Lisa Forbes | B28: 0 | C28: 0
A29: Terri Jamison | B29: 0 | C29: 0
A30: Over Votes | B30: 0 | C30: 0
A31: Under Votes | B31: 0 | C31: 0
A32: Difference Terri | B32: =ABS(B28-C28) -> 0
A33: Difference Lisa | B33: =ABS(B29-C29) -> 0
A34: Difference Over | B34: =ABS(B30-C30) -> 0
A35: Difference Under | B35: =ABS(B31-C31) -> 0
A36: Total Ballots Cast | B36: =SUM(B28:B31) -> 0
A37: Accuracy Rate | B37: =1-(SUM(B32:B35)/B36) -> #DIV/0!
A38: Input a explanation of the discrapancy: | D38: =IF(B37<=99.8%,"The board must escalate the audit if the Accuracy Rate is less than 99.5% and the margin of victory is greater than 1% or if the Accuracy Rate is less than 99.8% and the margin of victory is less than 1%","PASS") -> #DIV/0!
A40: County Choice | B40: Race Name
A41: List Candidates or Responses below. If a candidate contest, please list candidates in alphabetical order: | B41: Candidate Votes - Official Canvass | C41: Candidate or Issue Votes - Audit
A42: <<Enter First Candidate Name or Affirmative (For or Yes)>> | B42: 0 | C42: 0
A43: <<Enter Second Candidate Name or Negative Response (Against or No)>> | B43: 0 | C43: 0
A44: Overvotes | B44: 0 | C44: 0
A45: Undervotes | B45: 0 | C45: 0
A46: Complete the section below ONLY if more than two candidates appear in the contest.
A47: <<Enter Third Candidate Name>> | B47: 0 | C47: 0
A48: <<Enter Fourth Candidate Name>> | B48: 0 | C48: 0
A49: <<Enter Fifth Candidate Name>> | B49: 0 | C49: 0
A50: <<Enter Sixth Candidate Name>> | B50: 0 | C50: 0
A51: <<Enter Seventh Candidate Name>> | B51: 0 | C51: 0
A52: <<Enter Eighth Candidate Name>> | B52: 0 | C52: 0
A53: <<Enter Ninth Candidate Name>> | B53: 0 | C53: 0
A54: <<Enter Tenth Candidate Name>> | B54: 0 | C54: 0
A55: <<Enter Eleventh Candidate Name>> | B55: 0 | C55: 0
A56: <<Enter Twelfth Candidate Name>> | B56: 0 | C56: 0
A57: Difference 1 | B57: =ABS(B42-C42) -> 0
A58: Difference 2 | B58: =ABS(B43-C43) -> 0
A59: Difference Over | B59: =ABS(B44-C44) -> 0
A60: Difference Under | B60: =ABS(B45-C45) -> 0
A61: Difference 3 | B61: =ABS(B46-C46) -> 0
A62: Difference 4 | B62: =ABS(B47-C47) -> 0
A63: Difference 5 | B63: =ABS(B48-C48) -> 0
A64: Difference 6 | B64: =ABS(B49-C49) -> 0
A65: Difference 7 | B65: =ABS(B50-C50) -> 0
A66: Difference 8 | B66: =ABS(B51-C51) -> 0
A67: Difference 9 | B67: =ABS(B52-C52) -> 0
A68: Difference 10 | B68: =ABS(B53-C53) -> 0
... A70: Difference 12 | B70: =ABS(B55-C55) -> 0
A71: Total Ballots Cast | B71: =SUM(B42:B45,B47:B56) -> 0
A72: Accuracy Rate | B72: =1-(SUM(B57:B70)/B71) -> #DIV/0!
A73: Input a explanation of the discrapancy: | D73: =IF(B72<=99.8%,"The board must escalate the audit if the Accuracy Rate is less than 99.5% and the margin of victory is greater than 1% or if the Accuracy Rate is less than 99.8% and the margin of victory is less than 1%","PASS") -> #DIV/0!
A78: Certification of Audit Results
A80: Director | B80: Deputy Director
A82: Board Member | B82: Board Member
A84: Board Member | B84: Board Member

Sheet Dropdown
A1: Polling Locations | B1: Yes | C1: Adams
A2: Precincts | B2: No | C2: Allen
A3: Voting Equipment | B3: N/A | C3: Ashland
C4: Ashtabula
C5: Athens
C6: Auglaize
C7: Belmont
C8: Brown
C9: Butler
C10: Carroll
C11: Champaign
C12: Clark
C13: Clermont
C14: Clinton
C15: Columbiana
... C88: Wyandot
