Workbook

Sheet Instructions
E9: 1. Each board of elections who conducts a traditional, percentage-based post-election audit must use this workbook to perform and record the audit results. Instructions for conducting the post-election audit are found in Election Official Manual, Chapter 11, section 11.03.
E10: 2. Complete all spreadsheets found in the Excel Workbook.
E11: 3. Complete the fields in the 1. Basic Information spreadsheet. The spreadsheet will calculate the 5% of ballots to audit. This information will automatically poplulate at the top of the 4. Results Input spreadsheet.
E12: 4. Complete the 2. Unit Calculation spreadsheet to calculate the number of units to select for the audit. Enter the name of and the total number of votes cast and counted for each unit audited. - If the unit type audited is a polling location or precinct, the board must include the total number of ballots cast and counted including absentee and provisional ballots cast and counted (do not include absentee and provisional ballots cast but uncounted). - Each board must select at least two units (polling locations, precincts, or voting machines) to audit, even if the initial unit selected is equal to or over 5% of the total ballots cast and counted. - The board must continue to select units until the total number of ballots cast is equal to or greater than 5% of the total ballots cast and counted in the election. The spreadsheet will provide an alert when the 5% has been chosen. - The number of ballots selected and the number of units will populate in the 4. Results Input spreadsheet.
E13: 5. For the units being audited, include the cumulative total for each candidate, including a cumulative total for all ballots with a write-in candidate selection, as well as the number of ballots with an over or under vote for that contest. This total, when auditing by precinct and polling location, should include all ballots cast (including Election Day, counted absentee, and counted provisional ballots). As an example, if the first unit being audited had 200 ballots cast for a given candidate and the second unit had 300 votes for that same candidate, then the cumulative total is 500.
E14: 6. Complete the 3. Unit Questions spreadsheet.
E15: 7. Complete the 4. Results Input spreadsheet. - If a discrepancy exists, the board must clearly identify the discrepancy and provide an explanation that provides information as to (a) the specific unit(s) affected, (b) the type of ballots affected, and (c) the reason for the difference. - If a difference exists for a particular candidate or response, the audit field will turn yellow to indicate the difference. -Any time a difference exists, the board must provide a reason for the discrepancy. Note: The workbook is designed so that the absolute value of each discrepancy is calculated in the Accuracy Rate. Therefore, even if the Total Ballots Cast corresponding to the official canvass and audit totals are equal, a discrepancy may still exist if the totals for the candidates offset one another. - The board must escalate the audit if the Accuracy Rate is less than 99.5% and the margin of victory is greater than 1%. - The board must escalate the audit if the Accuracy Rate is less than 99.8% and the margin of victory is less than 1%.
E16: 8. To submit the Form, print the 4. Results Input spreadsheet and acquire the necessary signatures. Name the signed and scanned form "[County Name] 3-19-24 Post-Election Audit Signature Form".
E17: 9. Finally, email the complete workbook, and signed 4. Results Input form to results@ohiosos.gov.

Sheet 1. Basic Information
A1: County Name | B1: Number of Ballots Cast | C1: Units Audited (Select From Dropdown List
B2: 0
A3: Calculated Ballots to be Audited
A4: =B2*0.05 -> 0

Sheet 2. Unit Calculation
A1: Number of Ballots to Select | B1: ='1. Basic Information'!A4 -> 0
A2: You MUST enter at least 2 units for the form to pass
A3: Unit Type | B3: Unit Name | C3: Number of Ballots per Unit | D3: Number of Ballots Remaining to Select | E3: Status
A4: ='4. Results Input'!C2 -> 0 | B4: Polling Location 1 | D4: ='1. Basic Information'!A4-C4 -> 0 | E4: =IF(C5=0,"You MUST enter at least 2 units for the form to pass","") -> You MUST enter at least 2 units for the form to pass
A5: =A4 -> 0 | D5: =D4-C5 -> 0 | E5: =IF(ISBLANK(C5),"",IF(SUM(Table1[[Number of Ballots per Unit ]])<B1,"Select More Units to Audit","STOP - Selection Completed"))
A6: =A5 -> 0 | D6: =D5-C6 -> 0 | E6: =IF(ISBLANK(C6),"",IF(SUM(Table1[[Number of Ballots per Unit ]])<B1,"Select More Units to Audit","STOP - Selection Completed"))
A7: =A6 -> 0 | B7: <<Enter Unit Name>> | D7: =D6-C7 -> 0 | E7: =IF(ISBLANK(C7),"",IF(SUM(Table1[[Number of Ballots per Unit ]])<B1,"Select More Units to Audit","STOP - Selection Completed"))
A8: =A7 -> 0 | B8: <<Enter Unit Name>> | D8: =D7-C8 -> 0 | E8: =IF(ISBLANK(C8),"",IF(SUM(Table1[[Number of Ballots per Unit ]])<B1,"Select More Units to Audit","STOP - Selection Completed"))
A9: =A8 -> 0 | B9: <<Enter Unit Name>> | D9: =D8-C9 -> 0 | E9: =IF(ISBLANK(C9),"",IF(SUM(Table1[[Number of Ballots per Unit ]])<B1,"Select More Units to Audit","STOP - Selection Completed"))
A10: =A9 -> 0 | B10: <<Enter Unit Name>> | D10: =D9-C10 -> 0 | E10: =IF(ISBLANK(C10),"",IF(SUM(Table1[[Number of Ballots per Unit ]])<B1,"Select More Units to Audit","STOP - Selection Completed"))
A11: =A10 -> 0 | B11: <<Enter Unit Name>> | D11: =D10-C11 -> 0 | E11: =IF(ISBLANK(C11),"",IF(SUM(Table1[[Number of Ballots per Unit ]])<B1,"Select More Units to Audit","STOP - Selection Completed"))
A12: =A11 -> 0 | B12: <<Enter Unit Name>> | D12: =D11-C12 -> 0 | E12: =IF(ISBLANK(C12),"",IF(SUM(Table1[[Number of Ballots per Unit ]])<B1,"Select More Units to Audit","STOP - Selection Completed"))
A13: =A12 -> 0 | B13: <<Enter Unit Name>> | D13: =D12-C13 -> 0 | E13: =IF(ISBLANK(C13),"",IF(SUM(Table1[[Number of Ballots per Unit ]])<B1,"Select More Units to Audit","STOP - Selection Completed"))
A14: =A13 -> 0 | B14: <<Enter Unit Name>> | D14: =D13-C14 -> 0 | E14: =IF(ISBLANK(C14),"",IF(SUM(Table1[[Number of Ballots per Unit ]])<B1,"Select More Units to Audit","STOP - Selection Completed"))
A15: =A14 -> 0 | B15: <<Enter Unit Name>> | D15: =D14-C15 -> 0 | E15: =IF(ISBLANK(C15),"",IF(SUM(Table1[[Number of Ballots per Unit ]])<B1,"Select More Units to Audit","STOP - Selection Completed"))
A16: =A15 -> 0 | B16: <<Enter Unit Name>> | D16: =D15-C16 -> 0 | E16: =IF(ISBLANK(C16),"",IF(SUM(Table1[[Number of Ballots per Unit ]])<B1,"Select More Units to Audit","STOP - Selection Completed"))
A17: =A16 -> 0 | B17: <<Enter Unit Name>> | D17: =D16-C17 -> 0 | E17: =IF(ISBLANK(C17),"",IF(SUM(Table1[[Number of Ballots per Unit ]])<B1,"Select More Units to Audit","STOP - Selection Completed"))
A18: =A17 -> 0 | B18: <<Enter Unit Name>> | D18: =D17-C18 -> 0 | E18: =IF(ISBLANK(C18),"",IF(SUM(Table1[[Number of Ballots per Unit ]])<B1,"Select More Units to Audit","STOP - Selection Completed"))
A19: =A18 -> 0 | B19: <<Enter Unit Name>> | D19: =D18-C19 -> 0 | E19: =IF(ISBLANK(C19),"",IF(SUM(Table1[[Number of Ballots per Unit ]])<B1,"Select More Units to Audit","STOP - Selection Completed"))
A20: =A19 -> 0 | B20: <<Enter Unit Name>> | D20: =D19-C20 -> 0 | E20: =IF(ISBLANK(C20),"",IF(SUM(Table1[[Number of Ballots per Unit ]])<B1,"Select More Units to Audit","STOP - Selection Completed"))
A21: =A20 -> 0 | B21: <<Enter Unit Name>> | D21: =D20-C21 -> 0 | E21: =IF(ISBLANK(C21),"",IF(SUM(Table1[[Number of Ballots per Unit ]])<B1,"Select More Units to Audit","STOP - Selection Completed"))
A22: =A21 -> 0 | B22: <<Enter Unit Name>> | D22: =D21-C22 -> 0 | E22: =IF(ISBLANK(C22),"",IF(SUM(Table1[[Number of Ballots per Unit ]])<B1,"Select More Units to Audit","STOP - Selection Completed"))
A23: =A22 -> 0 | B23: <<Enter Unit Name>> | D23: =D22-C23 -> 0 | E23: =IF(ISBLANK(C23),"",IF(SUM(Table1[[Number of Ballots per Unit ]])<B1,"Select More Units to Audit","STOP - Selection Completed"))
A24: =A23 -> 0 | B24: <<Enter Unit Name>> | D24: =D23-C24 -> 0 | E24: =IF(ISBLANK(C24),"",IF(SUM(Table1[[Number of Ballots per Unit ]])<B1,"Select More Units to Audit","STOP - Selection Completed"))
A25: =A24 -> 0 | B25: <<Enter Unit Name>> | D25: =D24-C25 -> 0 | E25: =IF(ISBLANK(C25),"",IF(SUM(Table1[[Number of Ballots per Unit ]])<B1,"Select More Units to Audit","STOP - Selection Completed"))
A26: =A25 -> 0 | B26: <<Enter Unit Name>> | D26: =D25-C26 -> 0 | E26: =IF(ISBLANK(C26),"",IF(SUM(Table1[[Number of Ballots per Unit ]])<B1,"Select More Units to Audit","STOP - Selection Completed"))
A27: =A26 -> 0 | B27: <<Enter Unit Name>> | D27: =D26-C27 -> 0 | E27: =IF(ISBLANK(C27),"",IF(SUM(Table1[[Number of Ballots per Unit ]])<B1,"Select More Units to Audit","STOP - Selection Completed"))
A28: =A27 -> 0 | B28: <<Enter Unit Name>> | D28: =D27-C28 -> 0 | E28: =IF(ISBLANK(C28),"",IF(SUM(Table1[[Number of Ballots per Unit ]])<B1,"Select More Units to Audit","STOP - Selection Completed"))
A29: =A28 -> 0 | B29: <<Enter Unit Name>> | D29: =D28-C29 -> 0 | E29: =IF(ISBLANK(C29),"",IF(SUM(Table1[[Number of Ballots per Unit ]])<B1,"Select More Units to Audit","STOP - Selection Completed"))
A30: =A29 -> 0 | B30: <<Enter Unit Name>> | D30: =D29-C30 -> 0 | E30: =IF(ISBLANK(C30),"",IF(SUM(Table1[[Number of Ballots per Unit ]])<B1,"Select More Units to Audit","STOP - Selection Completed"))
A31: =A30 -> 0 | B31: <<Enter Unit Name>> | D31: =D30-C31 -> 0 | E31: =IF(ISBLANK(C31),"",IF(SUM(Table1[[Number of Ballots per Unit ]])<B1,"Select More Units to Audit","STOP - Selection Completed"))
A32: =A31 -> 0 | B32: <<Enter Unit Name>> | D32: =D31-C32 -> 0 | E32: =IF(ISBLANK(C32),"",IF(SUM(Table1[[Number of Ballots per Unit ]])<B1,"Select More Units to Audit","STOP - Selection Completed"))
A33: =A32 -> 0 | B33: <<Enter Unit Name>> | D33: =D32-C33 -> 0 | E33: =IF(ISBLANK(C33),"",IF(SUM(Table1[[Number of Ballots per Unit ]])<B1,"Select More Units to Audit","STOP - Selection Completed"))
A34: =A33 -> 0 | B34: <<Enter Unit Name>> | D34: =D33-C34 -> 0 | E34: =IF(ISBLANK(C34),"",IF(SUM(Table1[[Number of Ballots per Unit ]])<B1,"Select More Units to Audit","STOP - Selection Completed"))
A35: =A34 -> 0 | B35: <<Enter Unit Name>> | D35: =D34-C35 -> 0 | E35: =IF(ISBLANK(C35),"",IF(SUM(Table1[[Number of Ballots per Unit ]])<B1,"Select More Units to Audit","STOP - Selection Completed"))
A36: =A35 -> 0 | B36: <<Enter Unit Name>> | D36: =D35-C36 -> 0 | E36: =IF(ISBLANK(C36),"",IF(SUM(Table1[[Number of Ballots per Unit ]])<B1,"Select More Units to Audit","STOP - Selection Completed"))
A37: =A36 -> 0 | B37: <<Enter Unit Name>> | D37: =D36-C37 -> 0 | E37: =IF(ISBLANK(C37),"",IF(SUM(Table1[[Number of Ballots per Unit ]])<B1,"Select More Units to Audit","STOP - Selection Completed"))
A38: =A37 -> 0 | B38: <<Enter Unit Name>> | D38: =D37-C38 -> 0 | E38: =IF(ISBLANK(C38),"",IF(SUM(Table1[[Number of Ballots per Unit ]])<B1,"Select More Units to Audit","STOP - Selection Completed"))
A39: =A38 -> 0 | B39: <<Enter Unit Name>> | D39: =D38-C39 -> 0 | E39: =IF(ISBLANK(C39),"",IF(SUM(Table1[[Number of Ballots per Unit ]])<B1,"Select More Units to Audit","STOP - Selection Completed"))
A40: =A39 -> 0 | B40: <<Enter Unit Name>> | D40: =D39-C40 -> 0 | E40: =IF(ISBLANK(C40),"",IF(SUM(Table1[[Number of Ballots per Unit ]])<B1,"Select More Units to Audit","STOP - Selection Completed"))
...

Sheet 3. Unit Questions
E4: Audit Questions Please answer the following questions. If "NO" is the response to any of the questions, the board must provide an explanation for the discrepancy in the space provided providing details about the affected units.
E5: Questions | F5: Response | G5: If "NO," please provide a reason for responding "NO" to the question. Be specific and include details on the units and types of ballots affected and any information determined to be relevant to describe the discrepancy.
E6: 1. Were the optical scan ballots properly sealed after transport from the polling locations?
E7: 2. Were the Voter Verified Paper Audit Trail (VVPAT) canisters properly sealed?
E8: 3. Did the serial number(s) on the security seal(s) match the serial number on the security seal(s) as recorded?
E9: 4. Did the ballot reconciliation charts balance?
E10: 5. Was the zero report located and did it contain only zeros?
E11: 6. Was the ballot chain of custody form properly completed?
E12: 7. Did the number of ballots cast equal the number of voters?

Sheet 4. Results Input
A1: County Name | B1: Number of Ballots Cast | C1: Units Audited (Select From Dropdown List
A2: ='1. Basic Information'!A2 -> 0 | B2: ='1. Basic Information'!B2 -> 0 | C2: ='1. Basic Information'!C2 -> 0
A3: Calculated % | B3: Number of Ballots Selected | C3: Number of Units Selected
A4: ='1. Basic Information'!A4 -> 0 | B4: =SUM(Table1[[Number of Ballots per Unit ]]) -> 0 | C4: =COUNTIF('2. Unit Calculation'!C:C,">"&0) -> 0
A6: Republican Contest: | B6: Delegates-at-Large and Alternates-at-Large to the Republican National Convention
A7: Candidates | B7: Candidate Votes - Official Canvass | C7: Candidate Votes - Audit
A8: Chris Christie | B8: 0 | C8: 0
A9: Ron DeSantis | B9: 0 | C9: 0
A10: Nikki R. Haley | B10: 0 | C10: 0
A11: Vivek Ramaswamy | B11: 0 | C11: 0
A12: Donald J. Trump | B12: 0 | C12: 0
A13: Over Votes | B13: 0 | C13: 0
A14: Under Votes | B14: 0 | C14: 0
A15: Difference Chris | B15: =ABS(B8-C8) -> 0
A16: Difference Ron | B16: =ABS(B9-C9) -> 0
A17: Difference Nikki | B17: =ABS(B10-C10) -> 0
A18: Difference Vivek | B18: =ABS(B11-C11) -> 0
A19: Differece Donald | B19: =ABS(B12-C12) -> 0
A20: Difference Over | B20: =ABS(B13-C13) -> 0
A21: Difference Under | B21: =ABS(B14-C14) -> 0
A22: Total Ballots Cast | B22: =SUM(B8:B14) -> 0
A23: Accuracy Rate | B23: =1-(SUM(B15:B21)/B22) -> #DIV/0!
A24: Input a explanation of the discrapancy: | D24: =IF(B23<=99.8%,"The board must escalate the audit if the Accuracy Rate is less than 99.5% and the margin of victory is greater than 1% or if the Accuracy Rate is less than 99.8% and the margin of victory is less than 1%","PASS") -> #DIV/0!
A26: Democratic Contest: | B26: Justice of the Supreme Court (Unexpired term ending 12/31/2026)
A27: Candidates | B27: Candidate Votes - Official Canvass | C27: Candidate Votes - Audit
A28: Lisa Forbes | B28: 0 | C28: 0
A29: Terri Jamison | B29: 0 | C29: 0
A30: Over Votes | B30: 0 | C30: 0
A31: Under Votes | B31: 0 | C31: 0
A32: Difference Terri | B32: =ABS(B28-C28) -> 0
A33: Difference Lisa | B33: =ABS(B29-C29) -> 0
A34: Difference Over | B34: =ABS(B30-C30) -> 0
A35: Difference Under | B35: =ABS(B31-C31) -> 0
A36: Total Ballots Cast | B36: =SUM(B28:B31) -> 0
A37: Accuracy Rate | B37: =1-(SUM(B32:B35)/B36) -> #DIV/0!
A38: Input a explanation of the discrapancy: | D38: =IF(B37<=99.8%,"The board must escalate the audit if the Accuracy Rate is less than 99.5% and the margin of victory is greater than 1% or if the Accuracy Rate is less than 99.8% and the margin of victory is less than 1%","PASS") -> #DIV/0!
A40: County Choice | B40: Race Name
A41: List Candidates or Responses below. If a candidate contest, please list candidates in alphabetical order: | B41: Candidate Votes - Official Canvass | C41: Candidate or Issue Votes - Audit
A42: <<Enter First Candidate Name or Affirmative (For or Yes)>> | B42: 0 | C42: 0
A43: <<Enter Second Candidate Name or Negative Response (Against or No)>> | B43: 0 | C43: 0
...

Sheet Dropdown
A1: Polling Locations | B1: Yes | C1: Adams
A2: Precincts | B2: No | C2: Allen
A3: Voting Equipment | B3: N/A | C3: Ashland
C4: Ashtabula
C5: Athens
C6: Auglaize
C7: Belmont
C8: Brown
C9: Butler
C10: Carroll
C11: Champaign
C12: Clark
C13: Clermont
C14: Clinton
C15: Columbiana
... C88: Wyandot
