Workbook

Sheet Instructions

Sheet UOCAVA Report
A1: Applications Received
A2: Report Category | B2: Data
A3: UOCAVA and FPCA Valid | B3: 2
A4: UOCAVA and FPCA Invalid | B4: 1
A5: Invalid Subtotal - Received After The Application Deadline | B5: 0
A7: Ballots Sent
A8: Report Category | B8: Data
A9: UOCAVA Sent by Mail | B9: 0
A10: UOCAVA Sent by Email | B10: 2
A11: UOCAVA Sent by Fax | B11: 0
A12: UOCAVA Voted In Office | B12: 0
A13: Total UOCAVA Ballots Sent | B13: =SUM(B9:B12) -> 2
A14: Data Check - Do Valid Applications = Ballots Sent? | B14: =IF(B3=B13, "Yes", "No") -> Yes
A16: Ballots Returned
A17: Report Category | B17: Data
A18: UOCAVA Returned by Dropbox | B18: 0
A19: UOCAVA Returned by Personal Delivery | B19: 0
A20: UOCAVA Returned by Mail | B20: 2
A21: UOCAVA Returned as Undeliverable | B21: 0
A22: UOCAVA Returned Deceased - Unmarked | B22: 0
A23: Total UOCAVA Ballots Returned | B23: =SUM(B18:B22) -> 2
A25: Cumulative UOCAVA Data
A26: Report Category | B26: Data
A27: UOCAVA Not Returned | B27: =SUM(B3-B23) -> 0
A28: UOCAVA Returned During 4-Day Post-Election Period | B28: 0
A29: Total UOCAVA Ballots Counted | B29: 2
A30: Data Check - Are Ballots Counted Less Than or Equal to Ballots Returned? | B30: =IF(B29<=B23, "Yes", "No") -> Yes
A32: Rejected Ballots
A33: Report Category | B33: Data
A34: UOCAVA Rejected - Received Too Late | B34: 0
A35: UOCAVA Rejected - Returned Without ID Envelope | B35: 0
A36: UOCAVA Rejected - Stub A Detached | B36: 0
A37: UOCAVA Rejected - No Voter Signature | B37: 0
A38: UOCAVA Rejected - Non-Matching Signature | B38: 0
A39: UOCAVA Rejected - Non-Matching Name | B39: 0
A40: UOCAVA Rejected - Voter ID Information Missing | B40: 0
A41: UOCAVA Rejected - Multiple Ballots Returned In One Envelope | B41: 0
A42: UOCAVA Rejected - Voter Registration Cancelled or Merged Prior to Date Ballot Cast | B42: 0
A43: UOCAVA Rejected - Voter Deceased Prior to Date Marked Ballot was Cast | B43: 0
A44: UOCAVA Rejected - First Time Voter Without Proper ID | B44: 0
...

Sheet Absentee Report
A1: Ballots Sent
A2: Report Category | B2: Data
A3: ABS Ballots - Cast In-Person | B3: 1509
A4: ABS Ballots - Cast In-Person Abandoned Ballot | B4: 0
A5: ABS Ballots - All Other Sent Methods | B5: 611
A6: ABS Ballots - Nursing Home Refused | B6: 15
A7: Total ABS Ballots Sent | B7: =SUM(B3+B5) -> 2120
A9: Ballots Returned
A10: Report Category | B10: Data
A11: ABS Returned - by Dropbox | B11: 79
A12: ABS Returned - by Personal Delivery | B12: 77
A13: ABS Returned - by Mail | B13: 381
A14: ABS Returned - Undeliverable | B14: 2
A15: ABS Returned - Deceased - Unmarked | B15: 0
A16: ABS Returned - Cast In Person | B16: =B3 -> 1509
A17: Total ABS Ballots Returned or Cast | B17: =B3+(SUM(B11:B13)) -> 2046
A19: Cumulative ABS Data
A20: Report Category | B20: Data
A21: ABS Not Returned | B21: =SUM(B7-B17) -> 74
A22: ABS Returned During 4-Day Post-Election Period | B22: 40
A23: ABS Counted Except for In-Person | B23: 530
A24: Total ABS Counted | B24: =SUM(B3+B23) -> 2039
A25: Data Check - Are Ballots Counted Less Than or Equal to Ballots Returned? | B25: =IF(B24<=B17, "Yes", "No") -> Yes
A27: Rejected Ballots
A28: Report Category | B28: Data
A29: ABS Rejected - Late - No Postmark | B29: 1
A30: ABS Rejected - Late - Postmark on or after Election Day | B30: 2
A31: ABS Rejected - Late - Postmark on time, received after 4-Day Post-Election Period | B31: 3
A32: ABS Rejected - Missing ID Envelope | B32: 0
A33: ABS Rejected - Stub A Detached | B33: 0
A34: ABS Rejected - No Voter Signature | B34: 0
A35: ABS Rejected - Non-Matching Signature | B35: 0
A36: ABS Rejected - Non-Matching Name | B36: 0
A37: ABS Rejected - ID Envelope Missing Required Information | B37: 1
A38: ABS Rejected - Multiple Ballots Returned In One Envelope | B38: 0
A39: ABS Rejected - Voter Reg Cancelled or Merged Prior to Ballot Cast Date | B39: 0
A40: ABS Rejected - Voter Deceased Prior to Ballot Cast Date | B40: 0
... A43: ABS Rejected - Any Other Reason | B43: 0
A44: ABS Rejected - Total | B44: =SUM(B29:B43) -> 7
A46: Discrepancy Explanation

Sheet Provisional Report
A1: Ballots Cast and Counted
A2: Report Category | B2: Data
A3: Provisional Cast - Total | B3: 63
A4: Provisional Counted - Full Ballot | B4: 50
A5: Provisional Counted - Partial Ballot | B5: 0
A6: Provisional Counted - Valid Form 12-O Affidavit of Religious Objection | B6: 0
A7: Provisional Ballots Counted - Total | B7: =SUM(B4:B6) -> 50
A9: Rejected Ballots | L9: `
A10: Report Category | B10: Data
A11: Provisional Rejected - Not Registered in State | B11: 3
A12: Provisional Rejected - Wrong Precinct Wrong Polling Location | B12: 0
A13: Provisional Rejected - Wrong Precinct Right Polling Location | B13: 0
A14: Provisional Rejected - Invalid Form 12-O Affidavit of Religious Objection | B14: 0
A15: Provisional Rejected - No Signature | B15: 0
A16: Provisional Rejected - Full Name Missing | B16: 0
A17: Provisional Rejected - No Current Address Provided | B17: 0
A18: Provisional Rejected - No ID Provided | B18: 10
A19: Provisional Rejected - Non-Matching Signature | B19: 0
A20: Provisional Rejected - Ballot Missing From Envelope | B20: 0
A21: Provisional Rejected - Voter Cast Another Ballot | B21: 0
A22: Provisional Rejected - Challenge to Voter's Eligibility or Registration Upheld | B22: 0
... A24: Provisional Rejected - Any Other Reason | B24: 0
A25: Provisional Rejected - Total | B25: =SUM(B11:B24) -> 13
A26: Data Check - Do [Ballots Counted] Plus [Ballots Rejected] Equal [Provisional Cast]? | B26: =IF(B7+B25=B3, "Yes", "No") -> Yes
A28: Discrepancy Explanation

Sheet Cumulative Report
A1: Cumulative Totals By Category
A2: Report Category | B2: Data
A3: Absentee Cast per Workbook | B3: =SUM('UOCAVA Report'!B23+'Absentee Report'!B17) -> 2048
A4: Absentee Counted per Workbook | B4: =SUM('UOCAVA Report'!B29+'Absentee Report'!B24) -> 2041
A5: Absentee Counted Per EMS | B5: 2041
A6: Absentee In-Office Abandoned Ballot | B6: ='Absentee Report'!B4 -> 0
A8: Provisional Cast | B8: ='Provisional Report'!B3 -> 63
A9: Provisional Counted per Workbook | B9: ='Provisional Report'!B7 -> 50
A10: Provisional Counted per EMS | B10: 50
A12: Election Day Counted per Workbook | B12: =B16-SUM(B4,B9) -> 7921
A13: Election Day Counted per EMS | B13: 7921
A15: Total Ballots Counted per Workbook | B15: =SUM(B4,B9,B12) -> 10012
A16: Total Ballots Counted Per EMS | B16: 10012
A18: Difference Between EMS and This Workbook | B18: =ABS(B16-B15) -> 0
A20: Absentee Voters Receiving Voter History | B20: =SUM('UOCAVA Report'!B29+'Absentee Report'!B24) -> 2041
A21: Provisional Voters Receiving Voter History | B21: ='Provisional Report'!B7 -> 50
A22: Election Day Voters Receiving Voter History | B22: =B13 -> 7921
A24: Discrepancy Explanation
