Workbook

Sheet Non-UOCAVA Instructions
A1: Instructions for Completing the Non-UOCAVA Absentee Report
A2: 1. Using the information contained in the board's absentee tracking system, complete each field in column C that is highlighted in green. Cells that are highlighted in blue are calculated cells and do not require board input. Note that errors will appear until all data is input.
A3: 2. Helpful Reminders for Filling Out This Section: -Transmitted includes mailed, hand-carried, and delivered to a disabled, confined, or hospitalized voter. -Non-UOCAVA Ballots Transmitted and Cast In Person (C) must equal Returned By Voters And Submitted For Counting (Counted and Rejected) (E) + Returned As Undeliverable (F) + Neither Returned Undeliverable Nor Returned By The Voter (I). -Non-UOCAVA Ballots Postmarked by the day before Election Day and Received by the 10th day after Election Day Counted Transmitted (L) is a subset of Non-UOCAVA Ballots Counted Transmitted (K).
A4: 3. If information in the Non-UOCAVA absentee report does not balance or reconcile with other values, an error will be produced. Additionally, an error will be produced if the board omits a piece of required data.
A5: 4. Any errors must be corrected before the report workbook can be submitted to the Secretary of State. If the "Non-UOCAVA Overall Check" reads "Incomplete" in Cell E40, there is an error on the tab that must be rectified. If the "Non-UOCAVA Overall Check" reads "Complete" in Cell E40, the board should move on to the UOCAVA Report section.
A6: 5. Each absentee voter must receive credit/voter history for participating in the election unless the ballot was not timely returned, the ballot was rejected for being returned without an ID envelope, or the ballot was rejected due to reason "Voter Registration Cancelled or Merged Prior to Date Ballot Was Cast". For board ease, the aforementioned rows have been marked by an asterisk in the "Non_UOCAVA Report" tab. The total number of Non-UOCAVA absentee voters who should receive credit/voter history is calculated under the "Cumulative Report" tab and must match the number of voters who will receive credit/voter history by the board.

Sheet Non_UOCAVA Report
C1: Data | D1: Data Input Validation | E1: Data Checks
A2: A | B2: Non-UOCAVA Ballots Transmitted | C2: 59 | D2: =IF(C2="","Please input value","")
A3: B | B3: Non-UOCAVA Ballots Cast In Person (Do not include abandoned ballots) | C3: 74 | D3: =IF(C3="","Please input value","")
A4: C | B4: Non-UOCAVA Ballots Transmitted and Cast In Person | C4: =SUM(C2:C3) -> 133 | D4: =IF(C4="","Please input value","") | E4: =IF(C4=SUM(C7, C8, C11),"PASS", "FAIL, C must equal E + F + I") -> PASS
A5: D | B5: Non-UOCAVA In Person Absentee Abandoned Ballots | C5: 2 | D5: =IF(C5="","Please input value","")
A7: E | B7: Returned By Voters And Submitted For Counting (Counted and Rejected) | C7: 131 | D7: =IF(C7="","Please input value","") | E7: =IF(AND(C7<=SUM(C2:C3), C7 > C3),"PASS", "FAIL, E cannot be greater than C OR E cannot be smaller than B") -> PASS
A8: F | B8: Returned As Undeliverable | C8: 0 | D8: =IF(C8="","Please input value","")
A9: G | B9: Returned Deceased - Ballot Unmarked | C9: 0 | D9: =IF(C9="","Please input value","")
A10: H | B10: Returned Spoiled Or Replaced Ballots | C10: 0 | D10: =IF(C10="","Please input value","")
A11: I | B11: Neither Returned Undeliverable Nor Returned By The Voter | C11: 2 | D11: =IF(C11="","Please input value","")
A13: J | B13: Non-UOCAVA Ballots Counted | C13: =SUM(C14,C16) -> 131
A14: K | B14: Non-UOCAVA Ballots Counted Transmitted | C14: 57 | D14: =IF(C14="","Please input value","")
A15: L | B15: Non-UOCAVA Ballots Postmarked by the day before Election Day and Received by the 10th day after Election Day Counted Transmitted (of the total Non-UOCAVA Ballots Counted Transmitted) | C15: 0 | D15: =IF(C15="","Please input value","")
A16: M | B16: Non-UOCAVA Ballots Counted In Person | C16: 74 | D16: =IF(C16="","Please input value","")
A17: N | B17: Non-UOCAVA Ballots Rejected | C17: =SUM(C18:C19) -> 0
A18: O | B18: Non-UOCAVA Ballots Rejected Transmitted | C18: 0 | D18: =IF(C18="","Please input value","") | E18: =IF(C18=SUM(C23:C36),"PASS", "FAIL, O must equal the sum of S, T, U, V, W, X, Y, Z, AA, BB, CC, DD, EE, FF") -> PASS
A19: P | B19: Non-UOCAVA Ballots Rejected In Person | C19: 0 | D19: =IF(C19="","Please input value","")
A20: Q | B20: Returned By Voters And Submitted For Counting (Counted and Rejected) | C20: =SUM(C13,C17) -> 131 | E20: =IF(C20=C7,"PASS","FAIL, Q must equal E") -> PASS
A22: R | B22: Non UOCAVA Rejected - Transmitted | C22: =SUM(C23:C37) -> 0 | E22: =IF(C22=C18,"PASS","FAIL, R must equal O") -> PASS
A23: S | B23: Ballot Not Received on Time - No Postmark - Transmitted* | C23: 0 | D23: =IF(C23="","Please input value","")
A24: T | B24: Ballot Not Received on Time - Postmarked on or after election day - Transmitted* | C24: 0 | D24: =IF(C24="","Please input value","")
A25: U | B25: Ballot Not Received on Time - Postmarked before day of election but received after 10th day - Transmitted* | C25: 0 | D25: =IF(C25="","Please input value","")
A26: V | B26: Returned Without ID Envelope - Transmitted* | C26: 0 | D26: =IF(C26="","Please input value","")
A27: W | B27: Stub A Detached - Transmitted | C27: 0 | D27: =IF(C27="","Please input value","")
A28: X | B28: No Voter Signature - Transmitted | C28: 0 | D28: =IF(C28="","Please input value","")
A29: Y | B29: Non-Matching Signature - Transmitted | C29: 0 | D29: =IF(C29="","Please input value","")
A30: Z | B30: Non-Matching Name - Transmitted | C30: 0 | D30: =IF(C30="","Please input value","")
A31: AA | B31: Voter ID Envelope Contains Insufficient Information - Transmitted | C31: 0 | D31: =IF(C31="","Please input value","")
A32: BB | B32: Multiple Ballots Returned In One Envelope - Transmitted | C32: 0 | D32: =IF(C32="","Please input value","")
A33: CC | B33: Voter Registration Cancelled or Merged Prior to Date Ballot Was Cast - Transmitted* | C33: 0 | D33: =IF(C33="","Please input value","")
A34: DD | B34: Voter Deceased Prior To Date Marked Ballot Was Cast - Transmitted | C34: 0 | D34: =IF(C34="","Please input value","")
... A36: FF | B36: Non First Time Voter Without Proper Identification - Transmitted | C36: 0 | D36: =IF(C36="","Please input value","")
A38: GG | B38: Non-UOCAVA Rejected - Total | C38: =SUM(C22) -> 0 | E38: =IF(C38=C17,"PASS","FAIL, GG must equal N") -> PASS
B40: Non-UOCAVA Overall Check | E40: =IF(OR(COUNTIF(E2:E38,"*"&"FAIL"&"*"), COUNTIF(D2:D38,"*"&"Please"&"*")),"INCOMPLETE", "COMPLETE") -> COMPLETE
B42: *Should not receive voter history

Sheet UOCAVA Instructions
A1: Instructions for Completing the UOCAVA Absentee Report
A2: 1. Using the information contained in the board's absentee tracking system, complete each field in column C that is highlighted in green. Cells that are highlighted in blue are calculated cells and do not require board input. Note that errors will appear until all data is input.
A3: 2. Helpful Reminders for Filling Out This Section: -Transmitted includes mailed, hand-carried, and delivered to a disabled, confined, or hospitalized voter. -UOCAVA Ballots Transmitted (Q) must equal UOCAVA Ballots Returned By Voters And Submitted For Counting (Counted and Rejected) (CC) + UOCAVA Ballots Returned As Undeliverable (FF) + UOCAVA Ballots Neither Returned Undeliverable Nor Returned By The Voter (LL). -UOCAVA Ballots Postmarked by the day before Election Day and Received by the 10th day after Election Day Counted Transmitted (WW) is a subset of UOCAVA Ballots Counted (VV).
A4: 3. If information in the UOCAVA absentee report does not balance or reconcile with other values, an error will be produced. Additionally, an error will be produced if the board omits a piece of required data.
A5: 4. Any errors must be corrected before the report workbook can be submitted to the Secretary of State. If the "UOCAVA Overall Check" reads "Incomplete" in Cell E113, there is an error on the tab that must be rectified. If the "UOCAVA Overall Check" reads "Complete" in Cell E113, the board should move on to the Provisional Report section.
A6: 5. Each absentee voter must receive credit/voter history for participating in the election unless the ballot was not timely returned, the ballot was rejected for being returned without an ID envelope, or the ballot was rejected due to reason "Voter Registration Cancelled or Merged Prior to Date Ballot Was Cast". For board ease, the aforementioned rows have been marked by an asterisk in the "UOCAVA Report" tab. The total number of UOCAVA absentee voters who should receive credit/voter history is calculated under the "Cumulative Report" tab and must match the number of voters who will receive credit/voter history by the board.

Sheet UOCAVA Report
C1: Data | D1: Data Input Validation | E1: Data Checks
A2: A | B2: FPCAs Received | C2: =SUM(C3,C6) -> 0
A3: B | B3: FPCAs Received Valid | C3: =SUM(C4:C5) -> 0
A4: C | B4: FPCAs Received Military Valid | C4: 0 | D4: =IF(C4="","Please input value", "")
A5: D | B5: FPCAs Received Overseas Valid | C5: 0 | D5: =IF(C5="","Please input value", "")
A6: E | B6: FPCAS Received Invalid | C6: =SUM(C7:C8) -> 0
A7: F | B7: FPCAs Received Military Invalid | C7: 0 | D7: =IF(C7="","Please input value", "")
A8: G | B8: FPCAs Received Overseas Invalid | C8: 0 | D8: =IF(C8="","Please input value", "")
A9: H | B9: FPCAs Rejected Past Deadline | C9: 0 | D9: =IF(C9="","Please input value", "")
A10: I | B10: Other UOCAVA Applications Received | C10: =SUM(C11,C14) -> 0
A11: J | B11: Other UOCAVA Applications Received Valid | C11: =SUM(C12:C13) -> 0
A12: K | B12: Other UOCAVA Applications Received Military Valid | C12: 0 | D12: =IF(C12="","Please input value", "")
A13: L | B13: Other UOCAVA Applications Received Overseas Valid | C13: 0 | D13: =IF(C13="","Please input value", "")
A14: M | B14: Other UOCAVA Applications Received Invalid | C14: =SUM(C15:C16) -> 0
A15: N | B15: Other UOCAVA Applications Received Military Invalid | C15: 0 | D15: =IF(C15="","Please input value", "")
A16: O | B16: Other UOCAVA Applications Received Overseas Invalid | C16: 0 | D16: =IF(C16="","Please input value", "")
A17: P | B17: Total UOCAVA Applications Received | C17: =SUM(C2,C10) -> 0
A19: Q | B19: UOCAVA Ballots Transmitted | C19: 0 | D19: =IF(C19="","Please input value","") | E19: =IF(AND(C19=SUM(C20,C24), C19=SUM(C34,C35,C41)), "PASS", "Fail, Q must equal R + V, Q must equal EE + FF + LL") -> PASS
A20: R | B20: UOCAVA Ballots Transmitted Military | C20: =SUM(C21, C22, C23) -> 0
A21: S | B21: UOCAVA Military Ballots Transmitted via Mail | C21: 0 | D21: =IF(C21="","Please input value","")
A22: T | B22: UOCAVA Military Ballots Transmitted via Email | C22: 0 | D22: =IF(C22="","Please input value","")
A23: U | B23: UOCAVA Military Ballots Transmitted via Fax | C23: 0 | D23: =IF(C23="","Please input value","")
A24: V | B24: UOCAVA Ballots Transmitted Overseas | C24: =SUM(C25,C26,C27) -> 0
A25: W | B25: UOCAVA Overseas Ballots Transmitted via Mail | C25: 0 | D25: =IF(C25="","Please input value","")
A26: X | B26: UOCAVA Overseas Ballots Transmitted via Email | C26: 0 | D26: =IF(C26="","Please input value","")
A27: Y | B27: UOCAVA Overseas Ballots Transmitted via Fax | C27: 0 | D27: =IF(C27="","Please input value","")
A28: Z | B28: UOCAVA Ballots Transmitted via Mail | C28: =SUM(C21,C25) -> 0
A29: AA | B29: UOCAVA Ballots Transmitted via Email | C29: =SUM(C22,C26) -> 0
A30: BB | B30: UOCAVA Ballots Transmitted via Fax | C30: =SUM(C23,C27) -> 0
A31: CC | B31: UOCAVA Cast In Person (Do not include abandoned ballots) | C31: 0 | D31: =IF(C31="","Please input value","")
A32: DD | B32: UOCAVA In-Person Absentee Abandoned Ballots | C32: 0 | D32: =IF(C32="","Please input value","")
A34: EE | B34: UOCAVA Ballots Returned By Voters (Counted and Rejected) | C34: 0 | D34: =IF(C34="","Please input value","")
A35: FF | B35: UOCAVA Ballots Returned As Undeliverable | C35: =SUM(C36:C38) -> 0
A36: GG | B36: UOCAVA Ballots Returned As Undeliverable via mail | C36: 0 | D36: =IF(C36="","Please input value","")
A37: HH | B37: UOCAVA Ballots Returned As Undeliverable via email | C37: 0 | D37: =IF(C37="","Please input value","")
A38: II | B38: UOCAVA Ballots Returned As Undeliverable via fax | C38: 0 | D38: =IF(C38="","Please input value","")
A39: JJ | B39: UOCAVA Ballots Returned Deceased - Ballot Unmarked | C39: 0 | D39: =IF(C39="","Please input value","")
A40: KK | B40: UOCAVA Ballots Spoiled Or Replaced Ballots | C40: 0 | D40: =IF(C40="","Please input value","")
A41: LL | B41: UOCAVA Ballots Neither Returned Undeliverable Nor Returned By The Voter | C41: 0 | D41: =IF(C41="","Please input value","")
A42: MM | B42: Total UOCAVA Ballots Returned And Not Returned | C42: =SUM(C41,C40,C34) -> 0
A44: NN | B44: UOCAVA Returned - Total FWAB and Non FWAB | C44: 0 | D44: =IF(C44="","Please input value","") | E44: =IF(C44=SUM(C45,C48),"PASS","FAIL, NN must equal OO + RR") -> PASS
A45: OO | B45: UOCAVA Returned Non FWAB Total | C45: =SUM(C46,C47) -> 0
A46: PP | B46: UOCAVA Returned Miliary Non FWAB Total | C46: 0 | D46: =IF(C46="","Please input value","")
A47: QQ | B47: UOCAVA Returned Overseas Non FWAB Total | C47: 0 | D47: =IF(C47="","Please input value","")
A48: RR | B48: UOCAVA Returned FWAB - Total | C48: =SUM(C49,C50) -> 0
A49: SS | B49: UOCAVA Returned Military FWAB Total | C49: 0 | D49: =IF(C49="","Please input value","")
A50: TT | B50: UOCAVA Returned Overseas FWAB Total | C50: 0 | D50: =IF(C50="","Please input value","")
A51: UU | B51: UOCAVA Returned - Total | C51: =SUM(C45,C48) -> 0
A53: VV | B53: UOCAVA Ballots Counted | C53: 0 | D53: =IF(C53="","Please input value","") | E53: =IF(C53=SUM(C55,C58),"PASS","FAIL, VV must equal XX + AAA") -> PASS
A54: WW | B54: UOCAVA Ballots Postmarked by the day before Election Day and Received by the 10th day after Election Day Counted Transmitted (of the total UOCAVA Ballots Counted) | C54: 0
A55: XX | B55: UOCAVA Ballots Counted - Total Non FWAB | C55: =SUM(C56,C57) -> 0
A56: YY | B56: UOCAVA Ballots Counted Military Non FWAB | C56: 0 | D56: =IF(C56="","Please input value","")
A57: ZZ | B57: UOCAVA Ballots Counted Overseas Non FWAB | C57: 0 | D57: =IF(C57="","Please input value","")
A58: AAA | B58: UOCAVA Ballots Counted - Total FWAB | C58: =SUM(C59,C60) -> 0
A59: BBB | B59: UOCAVA Ballots Counted Military FWAB | C59: 0 | D59: =IF(C59="","Please input value","")
A60: CCC | B60: UOCAVA Ballot Counted Overseas FWAB | C60: 0 | D60: =IF(C60="","Please input value","")
A61: DDD | B61: UOCAVA Ballots Counted - Total | C61: =SUM(C55,C58) -> 0 | D61: =IF(C61="","Please input value","")
A63: EEE | B63: UOCAVA Non FWAB and FWAB Rejected - Total | C63: 0 | D63: =IF(C63="","Please input value","") | E63: =IF(C63=SUM(C64,C70,C73,C76,C79,C67,C82,C85,C88,C91, C94, C97),"PASS", "FAIL, EEE must equal FFF + III + LLL + OOO + RRR + UUU + XXX + AAAA + DDDD + GGGG + JJJJ + MMMM") -> PASS
A64: FFF | B64: UOCAVA Total Rejected Not Received On Time/Missed Deadline* | C64: =SUM(C65:C66) -> 0
A65: GGG | B65: UOCAVA Non FWAB Rejected Not Received On Time/Missed Deadline* | C65: 0 | D65: =IF(C65="","Please input value","")
A66: HHH | B66: UOCAVA FWAB Ballot Not Received On Time/Missed Deadline* | C66: 0 | D66: =IF(C66="","Please input value","")
A67: III | B67: UOCAVA Total Rejected Returned Without ID Envelope* | C67: =SUM(C68:C69) -> 0
A68: JJJ | B68: UOCAVA Non FWAB Rejected Returned Without ID Envelope* | C68: 0 | D68: =IF(C68="","Please input value","")
A69: KKK | B69: UOCAVA FWAB Rejected Returned Without ID Envelope* | C69: 0 | D69: =IF(C69="","Please input value","")
A70: LLL | B70: UOCAVA Total Rejected Stub A Detached | C70: =SUM(C71:C72) -> 0
A71: MMM | B71: UOCAVA Non FWAB Rejected Stub A Detached | C71: 0 | D71: =IF(C71="","Please input value","")
A72: NNN | B72: UOCAVA FWAB Rejected Stub A Detached | C72: 0 | D72: =IF(C72="","Please input value","")
A73: OOO | B73: UOCAVA Total Rejected No Voter Signature | C73: =SUM(C74:C75) -> 0
A74: PPP | B74: UOCAVA Non FWAB Rejected No Voter Signature | C74: 0 | D74: =IF(C74="","Please input value","")
A75: QQQ | B75: UOCAVA FWAB Rejected No Voter Signature | C75: 0 | D75: =IF(C75="","Please input value","")
A76: RRR | B76: UOCAVA Total Rejected Non-Matching Signature | C76: =SUM(C77:C78) -> 0
A77: SSS | B77: UOCAVA Non FWAB Rejected Non-Matching Signature | C77: 0 | D77: =IF(C77="","Please input value","")
A78: TTT | B78: UOCAVA FWAB Rejected Non-Matching Signature | C78: 0 | D78: =IF(C78="","Please input value","")
A79: UUU | B79: UOCAVA Total Rejected Non-Matching Name | C79: =SUM(C80:C81) -> 0
A80: VVV | B80: UOCAVA Non FWAB Rejected Non-Matching Name | C80: 0 | D80: =IF(C80="","Please input value","")
A81: WWW | B81: UOCAVA FWAB Rejected Non-Matching Name | C81: 0 | D81: =IF(C81="","Please input value","")
A82: XXX | B82: UOCAVA Total Rejected Voter ID Contains Insufficient Information | C82: =SUM(C83:C84) -> 0
A83: YYY | B83: UOCAVA Non FWAB Rejected Voter ID Contains Insufficient Information | C83: 0 | D83: =IF(C83="","Please input value","")
A84: ZZZ | B84: UOCAVA FWAB Rejected Voter ID Contains Insufficient Information | C84: 0 | D84: =IF(C84="","Please input value","")
A85: AAAA | B85: UOCAVA Total Rejected Multiple Ballots Returned in One Envelope | C85: =SUM(C86:C87) -> 0
A86: BBBB | B86: UOCAVA Non FWAB Rejected Multiple Ballots Returned in One Envelope | C86: 0 | D86: =IF(C86="","Please input value","")
A87: CCCC | B87: UOCAVA FWAB Rejected Multiple Ballots Returned in One Envelope | C87: 0 | D87: =IF(C87="","Please input value","")
A88: DDDD | B88: UOCAVA Total Rejected Voter Registration Cancelled or Merged Prior to Date Ballot Cast* | C88: =SUM(C89:C90) -> 0
A89: EEEE | B89: UOCAVA Non FWAB Rejected Voter Registration Cancelled or Merged Prior to Date Ballot Cast* | C89: 0 | D89: =IF(C89="","Please input value","")
A90: FFFF | B90: UOCAVA FWAB Rejected Voter Registration Cancelled or Merged Prior to Date Ballot Cast* | C90: 0 | D90: =IF(C90="","Please input value","")
A91: GGGG | B91: UOCAVA Total Voter Deceased Prior to Date Marked Ballot was Cast | C91: =SUM(C92:C93) -> 0
A92: HHHH | B92: UOCAVA Non FWAB Rejected Voter Deceased Prior to Date Marked Ballot was Cast | C92: 0 | D92: =IF(C92="","Please input value","")
A93: IIII | B93: UOCAVA FWAB Rejected Voter Deceased Prior to Date Marked Ballot was Cast | C93: 0 | D93: =IF(C93="","Please input value","")
A94: JJJJ | B94: UOCAVA Total First Time Voter Without Proper ID | C94: =SUM(C95:C96) -> 0
A95: KKKK | B95: UOCAVA Non FWAB Rejected First Time Voter Without Proper ID | C95: 0 | D95: =IF(C95="","Please input value","")
A96: LLLL | B96: UOCAVA FWAB Rejected First Time Voter Without Proper ID | C96: 0 | D96: =IF(C96="","Please input value","")
A97: MMMM | B97: UOCAVA Total Non First Time Voter Without Proper ID | C97: =SUM(C98:C99) -> 0
A98: NNNN | B98: UOCAVA Non FWAB Rejected Non First Time Voter Without Proper ID | C98: 0 | D98: =IF(C98="","Please input value","")
A99: OOOO | B99: UOCAVA FWAB Rejected Non First Time Voter Without Proper ID | C99: 0 | D99: =IF(C99="","Please input value","")
A100: PPPP | B100: UOCAVA Non FWAB and FWAB Rejected | C100: =SUM(C101:C102) -> 0
A101: QQQQ | B101: UOCAVA Total Non FWAB Rejected | C101: =SUM(C98,C95,C92,C89,C86,C83,C68,C80,C77,C74,C71,C65) -> 0
A102: RRRR | B102: UOCAVA Total FWAB Rejected | C102: =SUM(C99, C96,C93,C90,C87,C84,C69,C81,C78,C75,C72,C66) -> 0
A103: SSSS | B103: UOCAVA FWABs Not Counted - Regular Ballot Counted* | C103: 0 | D103: =IF(C103="","Please input value","")
A105: TTTT | B105: UOCAVA Non-FWAB Rejected Total | C105: =SUM(C107,C106) -> 0
A106: UUUU | B106: UOCAVA Military Non FWAB Rejected | C106: 0 | D106: =IF(C106="","Please input value","")
...

Sheet Provisional Instructions
A1: Instructions for Completing the Provisional Report
A2: 1. Using the information contained in the board's provisional tracking system, complete each field in column C that is highlighted in green. Cells that are highlighted in blue are calculated cells and do not require board input. Note that errors will appear until all data is input.
A3: 2. If information in the Provisional report does not balance or reconcile with other values, an error will be produced. Additionally, an error will be produced if the board omits a piece of required data.
A4: 3. Any errors must be corrected before the report workbook can be submitted to the Secretary of State. If the "Provisional Overall Check" reads "Incomplete" in Cell E24, there is an error on the tab that must be rectified. If the "Provisional Overall Check" reads "Complete" in Cell E24, the board should move on to the Cumulative Report section.
A5: 4. Each provisional voter must receive credit/voter history for participating in the election unless the provisional ballot was rejected because the voter had already voted. For board ease, this row has been marked with by an asterisk in the "Provisional Report" tab. The total number of provisional voters that should receive voter history is calculated under the "Cumulative Report" tab and must match the number of voters who will receive credit/voter history by the board.

Sheet Provisional Report
C1: Data | D1: Data Input Validation | E1: Data Checks
A2: A | B2: Total Provisional Ballots Cast | C2: 7 | D2: =IF(C2="","Please input value","") | E2: =IF(C2=SUM(C3,C10),"PASS","FAIL, A must equal B + I") -> PASS
A3: B | B3: Total Provisional Ballots Counted | C3: =SUM(C4:C9) -> 6 | D3: =IF(C3="","Please input value","") | E3: =IF(C3=SUM(C4:C9),"PASS","FAIL, B must equal sum of C, D, E, F, G, H") -> PASS
A4: C | B4: Counted Full Ballot | C4: 6 | D4: =IF(C4="","Please input value","")
A5: D | B5: Counted Partial Ballot | C5: 0 | D5: =IF(C5="","Please input value","")
A6: E | B6: Counted - APRI 2011 | C6: 0 | D6: =IF(C6="","Please input value","")
A7: F | B7: Counted - APRI 2013 | C7: 0 | D7: =IF(C7="","Please input value","")
A8: G | B8: Counted - APRI 2015 | C8: 0 | D8: =IF(C8="","Please input value","")
A9: H | B9: Counted - APRI 2019 | C9: 0 | D9: =IF(C9="","Please input value","")
A10: I | B10: Provisional Ballots Rejected | C10: 1 | D10: =IF(C10="","Please input value","") | E10: =IF(C10=SUM(C11:C22),"PASS","FAIL, I must equal sum of J-U") -> PASS
A11: J | B11: Rejected - Not Registered in State | C11: 1 | D11: =IF(C11="","Please input value","")
A12: K | B12: Rejected - Voter Registered in State, Wrong Precinct and Polling Location | C12: 0 | D12: =IF(C12="","Please input value","")
A13: L | B13: Rejected - Voter Registered in State, Voted In Correct Polling Place but Wrong Precinct - Voter Provided a Completed Form 12-D) | C13: 0 | D13: =IF(C13="","Please input value","")
A14: M | B14: Rejected - Voter Failed to Sign the Provisional Envelope | C14: 0 | D14: =IF(C14="","Please input value","")
A15: N | B15: Rejected - Voter Failed to Print Full Name on the Provisional Envelope | C15: 0 | D15: =IF(C15="","Please input value","")
A16: O | B16: Rejected - Voter Failed to Provide the Current Address | C16: 0 | D16: =IF(C16="","Please input value","")
A17: P | B17: Rejected - Voter Failed to Provide Identification | C17: 0 | D17: =IF(C17="","Please input value","")
A18: Q | B18: Rejected - Non-Matching Signature on the Provisional Envelope | C18: 0 | D18: =IF(C18="","Please input value","")
A19: R | B19: Rejected - Ballot Missing From Provisional Envelope | C19: 0 | D19: =IF(C19="","Please input value","")
A20: S | B20: Rejected - Voter Already Voted* | C20: 0 | D20: =IF(C20="","Please input value","")
A21: T | B21: Rejected - Challenge to Voter's Eligibility or Registration Upheld | C21: 0 | D21: =IF(C21="","Please input value","")
A22: U | B22: Rejected - Missing or Incorrect Date of Birth (that does not meet requirements) | C22: 0 | D22: =IF(C22="","Please input value","")
B24: Provisional Overall Check | E24: =IF(OR(COUNTIF(E2:E22,"*"&"FAIL"&"*"), COUNTIF(D2:D22,"*"&"Please"&"*")),"INCOMPLETE", "COMPLETE") -> COMPLETE
B26: *Should not receive voter history

Sheet Cumulative Report Instructions
A1: Instructions for Completing the Official Certification Report
A2: 1. Complete the following on the Cumulative Report by providing: -Absentee Counted Per EMS -Provisional Counted Per EMS -Election Day Counted Per EMS -Total Ballots Cast (Manually Enter Tabulated Results From Official Canvass)
A3: 2. Any errors must be corrected before the report workbook can be submitted to the Secretary of State. If the "Overall Check" reads "Incomplete" in Cell D22, there is an error on either the Cumulative Report tab, Provisional Report tab, UOCAVA Report tab, or the Non_UOCAVA Report tab. The tab with the error must be rectified. If the "Overall Check" reads "Complete" in Cell D22, the board should save the Excel Workbook and submit to the the Secretary of State's Office.
A4: 3. It is possible that there will be an explainable discrepancy between the data as reported in the Non_UOCAVA Report tab, UOCAVA Report tab, and the Provisional Report tab when compared to data from the county EMS. If this happens, please provide a typed explanation for the discrepancy in Cell B20. This type of explainable discrepancy will prevent the "Overall Check" on the Cumulative Report tab from reading as "Complete". If the board believes this explainable discrepancy is the only piece of data causing the "Overall Check" to read as "Incomplete", then the board can submit the workbook to the Secretary of State's Office. Prior to submitting, please make sure to review the Non_UOCAVA Report tab, UOCAVA Report tab, and the Provisional Report tab to ensure that there is not anything flagged as needing further review.
A5: 4a. If the board of elections did not administer an election and instead transferred voters to another county, simply input a 0 in Cells B9, B11, B13, and B15. 4b. If the board of elections administered an election and accepted transferred voters from another county, DO NOT include transferred voters in Cells B9, B11, B13, and B15. 4c. If the board of elections administered an election and transferred voters to another county, DO NOT include the voters being transferred to another county in Cells B9, B11, B13, and B15. 4d. If the board of elections administered an election, transferred voters to another county, and accepted transferred voters from another county, DO NOT include either group of transferred voters in Cells B9, B11, B13, and B15. If any of the four scenarios above apply, the board of elections must communicate this to the Secretary of State’s Office when submitting the workbook.

Sheet Election Day Instructions
A1: Instructions for Completing the Election Day Report
A2: 1. Using the information contained in the board's election management system and the electronic poll book or signature book, complete each field. Note that errors will appear until all data is input.
A3: 2. If information in the report does not balance or reconcile with other values, an error will be produced.
A4: 3. Any errors must be corrected before the report workbook can be submitted to the Secretary of State.
A5: 4. Each election day voter who signed the poll book must receive credit/voter history for participating in the election - see page 8-25 of the EOM. This total is calculated under the "Cumulative Report" tab and must match the number of voters who will receive credit/voter history by the board.

Sheet Election Day Report
C1: Data | D1: Data Input Validation | E1: Data Checks | F1: Describe
A2: A | B2: Number of Voters - Signed Poll Book | C2: 0 | D2: =IF(C2="", "Please input value","")
A3: B | B3: Number of Voters - Election Day Regular Ballots Counted | C3: 0 | D3: =IF(C3="", "Please input value","")
A4: C | B4: Total Discrepancies | C4: =SUM(C5:C6) -> 0
A5: D | B5: Unresolved Discrepancies | C5: 0 | D5: =IF(C5="", "Please input value","") | E5: =IF(C5<>0,"FAIL","PASS") -> PASS
A6: E | B6: Resolved Discrepancies | C6: 0 | D6: =IF(C6="", "Please input value","") | E6: =IF(C6=0,"PASS","FAIL") -> PASS
A7: F | B7: Number of Voters - Failed to Capture Signature | C7: 0 | D7: =IF(C7="", "Please input value","")
A8: G | B8: Number of Ballots - Page 1 not scanned | C8: 0 | D8: =IF(C8="", "Please input value","")
A9: H | B9: Number of Provisional Ballots - Incorrectly Scanned in Ballot Scanner | C9: 0 | D9: =IF(C9="", "Please input value","")
A10: I | B10: Number of Abandoned Transactions - Voter did not cast ballot (fleeing voter) | C10: 0 | D10: =IF(C10="", "Please input value","")
A11: J | B11: Other - Please describe in free form box in the far right column | C11: 0 | D11: =IF(C11="", "Please input value","")
B13: ELECTION DAY OVERALL CHECK | E13: =IF(OR(COUNTIF(E2:E11,"*"&"BAD"&"*"), COUNTIF(D2:D11,"*"&"Please"&"*")),"INCOMPLETE", "COMPLETE") -> COMPLETE

Sheet Cumulative Report
C1: Data Input Validation | D1: Data Description/Data Checks
A2: In Person Absentee Cast | B2: ='Non_UOCAVA Report'!C3+'UOCAVA Report'!C31 -> 74 | D2: "Non-UOCAVA Ballots Cast In Person" + "UOCAVA Ballots Cast In Person"
A3: By Mail Absentee Cast | B3: ='Non_UOCAVA Report'!C14+'UOCAVA Report'!C44+'Non_UOCAVA Report'!C18 -> 57 | D3: "Non-UOCAVA Ballots Counted - Transmitted" + "Non-UOCAVA Ballots Rejected - Transmitted" + "UOCAVA Returned - Total FWAB and Non-FWAB"
A4: Provisional Cast | B4: ='Provisional Report'!C2 -> 7 | D4: Total Provisional Ballots Cast
A5: Election Day Cast | B5: =B15-SUM(B7,B8,B10) -> 1543 | D5: "Total Ballots Counted" - "In Person Absentee Counted" - "By Mail Absentee Ballots Counted" - "Provisional Counted"
A6: Total Ballots Cast | B6: =SUM(B2:B5) -> 1681 | C6: =IF(B6="","Please input data","") | D6: "In Person Absentee Cast" + "By Mail Absentee Cast" + "Provisional Cast" + "Election Day Cast"
A7: In Person Absentee Counted | B7: =('Non_UOCAVA Report'!C16+'UOCAVA Report'!C31) -> 74 | D7: "Non-UOCAVA Ballots Counted In Person" + "UOCAVA Ballots Cast In Person"
A8: By Mail Absentee Ballots Counted | B8: =('Non_UOCAVA Report'!C14+'UOCAVA Report'!C51-'UOCAVA Report'!C111) -> 57 | D8: "Non-UOCAVA Ballots Counted Transmitted" + "UOCAVA Return - Total" - "UOCAVA Rejected - Total"
A9: Absentee Counted Per EMS | B9: 131 | C9: =IF(B9="","Please input data","") | D9: =IF(B9=SUM(B8,B7), "PASS", "FAIL, In Person Absentee Counted + By Mail Absentee Counted must equal Absentee Counted Per EMS") -> PASS
A10: Provisional Counted | B10: ='Provisional Report'!C3 -> 6
A11: Provisional Counted Per EMS | B11: 6 | C11: =IF(B11="","Please input data","") | D11: =IF(B10=B11,"PASS", "FAIL, Provisional Counted must equal Provisional Counted Per EMS") -> PASS
A12: Election Day Counted | B12: =B5 -> 1543
A13: Election Day Counted Per EMS | B13: 1543 | C13: =IF(B13="","Please input data","") | D13: =IF(B13=B12,"PASS", "FAIL, Election Day Counted must equal Election Day Counted Per EMS") -> PASS
A14: Total Ballots Counted | B14: =SUM(B7,B8,B10,B12) -> 1680
A15: Total Ballots Counted (Manually Enter Tabulated Results From Official Canvass) | B15: 1680 | C15: =IF(B15="","Please input data","") | D15: =IF(B14=B15,"PASS","FAIL, Total Ballots Counted must equal Election Day Ballots Counted + In Person Absentee Counted + By Mail Absentee Ballots Counted + Provisional Counted") -> PASS
A16: Difference Between Official Canvass and Reports | B16: =B15-B14 -> 0
A17: Absentee Voters Receiving Voter History - As Calculated from Reports | B17: ='Non_UOCAVA Report'!C20-'Non_UOCAVA Report'!C23-'Non_UOCAVA Report'!C24-'Non_UOCAVA Report'!C25-'Non_UOCAVA Report'!C26 +'Non_UOCAVA Report'!C5+'UOCAVA Report'!C51-'UOCAVA Report'!C64-'UOCAVA Report'!C67+'UOCAVA Report'!C32 -> 133
A18: Provisional Voters Receiving Voter History - As Calculated from Reports | B18: ='Provisional Report'!C2-'Provisional Report'!C20 -> 7
A20: Reason for any disrepancies between report data and EMS data.
A22: OVERALL CHECK | D22: =IF(OR(COUNTIF(D2:D18,"*"&"FAIL"&"*"), COUNTIF(C2:C18,"*"&"Please"&"*"),'Non_UOCAVA Report'!E40="INCOMPLETE",'UOCAVA Report'!E113="INCOMPLETE",'Provisional Report'!E24="INCOMPLETE"), "INCOMPLETE", "COMPLETE") -> COMPLETE
