Workbook

Sheet Non_UOCAVA Instructions
A1: Instructions for Completing the Non-UOCAVA Absentee Report
A2: 1. Using the information contained in the board's absentee tracking system, complete each field in column C that is highlighted in green. Cells that are highlighted in blue are calculated cells and do not require board input. Note that errors will appear until all data is input.
A3: 2. Helpful Reminders for Filling Out This Section: -Transmitted includes mailed, hand-carried, and delivered to a disabled, confined, or hospitalized voter. -Non-UOCAVA Ballots Transmitted and Cast In Person (C) must equal Returned By Voters And Submitted For Counting (Counted and Rejected) (F) + Returned As Undeliverable (G) + Non-UOCAVA Ballots Returned Deceased - Ballot Unmarked (H) + Neither Returned Undeliverable Nor Returned By The Voter (J). -Non-UOCAVA Ballots Postmarked Timely and Received during 10 day Post Election Period Counted Transmitted (M) is a subset of Non-UOCAVA Ballots Counted Transmitted (L). -Non-UOCAVA Refused Nursing Home Ballots (E) should represent any nursing home voters that refused their ballot.
A4: 3. If information in the Non-UOCAVA absentee report does not balance or reconcile with other values, an error will be produced. Additionally, an error will be produced if the board omits a piece of required data.
A5: 4. Any errors must be corrected before the report workbook can be submitted to the Secretary of State. If the "Non-UOCAVA Overall Check" reads "Incomplete" in Cell E41, there is an error on the tab that must be rectified. If the "Non-UOCAVA Overall Check" reads "Complete" in Cell E41, the board should move on to the UOCAVA Report section.
A6: 5. Each absentee voter must receive credit/voter history for participating in the election unless the ballot was not timely returned, the ballot was rejected for being returned without an ID envelope, or the ballot was rejected due to reason "Voter Registration Cancelled or Merged Prior to Date Ballot Was Cast". For board ease, the aforementioned rows have been marked by an asterisk in the "Non_UOCAVA Report" tab. The total number of Non-UOCAVA absentee voters who should receive credit/voter history is calculated under the "Cumulative Report" tab and must match the number of voters who will receive credit/voter history by the board.

Sheet Non_UOCAVA Report
C1: Data | D1: Data Input Validation | E1: Data Checks | F1: Source for Data | G1: Data Definition
A2: A | B2: Non-UOCAVA Ballots - Transmitted | C2: 4196 | D2: =IF(C2="","Please input value","") | F2: VR System | G2: Non-UOCAVA ballots that were (1) hand-carried, (2) delivered to a voter in a nursing home, (3) delivered to a voter in a hospital, or (4) mailed.
A3: B | B3: Non-UOCAVA Ballots - Cast In Person (Do not include abandoned ballots) | C3: 2679 | D3: =IF(C3="","Please input value","") | F3: VR System | G3: Non-UOCAVA ballots that were cast in person at the board of elections or the early vote center during the early voting period.
A4: C | B4: Non-UOCAVA Ballots Transmitted and Cast In Person | C4: =SUM(C2:C3) -> 6875 | D4: =IF(C4="","Please input value","") | E4: =IF(C4=SUM(C8, C9, C10, C12),"PASS", "FAIL, C must equal F + G + H + J") -> PASS
A5: D | B5: Non-UOCAVA In Person Absentee Abandoned Ballots | C5: 0 | D5: =IF(C5="","Please input value","") | F5: VR System and EMS Report | G5: Non-UOCAVA voters that signed in at the board of elections or the early vote center during the early voting period but failed to cast the ballot.
A6: E | B6: Non-UOCAVA Refused Nursing Home Ballots | C6: 5 | D6: =IF(C6="","Please input value","") | F6: VR System | G6: Non-UOCAVA nursing home voters that refused their ballot.
A8: F | B8: Non-UOCAVA Ballots Returned By Voters And Submitted For Counting (Counted and Rejected) | C8: 6636 | D8: =IF(C8="","Please input value","") | E8: =IF(AND(C8<=SUM(C2:C3), C8 >= C3),"PASS", "FAIL, F cannot be greater than C OR F cannot be smaller than B") -> PASS | F8: VR System | G8: Non-UOCAVA ballots that were (1) returned and submitted for counting (both counted and rejected) and (2) Non-UOCAVA ballots that were cast in person at the board of elections or the early vote center during the early voting period.
A9: G | B9: Non-UOCAVA Ballots Returned As Undeliverable | C9: 14 | D9: =IF(C9="","Please input value","") | F9: VR System | G9: Non-UOCAVA ballots that were transmitted to the voter, and the ballot was returned undeliverable.
A10: H | B10: Non-UOCAVA Ballots Returned Deceased - Ballot Unmarked | C10: 1 | D10: =IF(C10="","Please input value","") | F10: VR System | G10: Non-UOCAVA ballots that were returned to the board of elections unmarked with the distinction that the voter has passed away.
A11: I | B11: Non-UOCAVA Ballots Returned Spoiled Or Replaced Ballots | C11: 20 | D11: =IF(C11="","Please input value","") | F11: VR System | G11: Non-UOCAVA ballots that were spoiled or replaced.
A12: J | B12: Non-UOCAVA Ballots Neither Returned Undeliverable Nor Returned By The Voter | C12: 224 | D12: =IF(C12="","Please input value","") | F12: VR System | G12: Non-UOCAVA ballots that were not returned to the board of elections.
A14: K | B14: Non-UOCAVA Ballots Counted - Total | C14: =SUM(C15,C17) -> 6613
A15: L | B15: Non-UOCAVA Ballots Counted - Transmitted | C15: 3957 | D15: =IF(C15="","Please input value","") | F15: VR System | G15: Non-UOCAVA ballots that were (1) hand-carried, (2) delivered to a voter in a nursing home, (3) delivered to a voter in a hospital, or (4) mailed AND were counted.
A16: M | B16: Non-UOCAVA Ballots Postmarked Timely and Received during 10 day Post Election Period Counted Transmitted (of the total Non-UOCAVA Ballots Counted Transmitted) | C16: 23 | D16: =IF(C16="","Please input value","") | E16: =IF(C16<C15,"PASS","FAIL, M must be less than L") -> PASS | F16: VR System | G16: Non-UOCAVA ballots that were (1) hand-carried, (2) delivered to a voter in a nursing home, (3) delivered to a voter in a hospital, or (4) mailed, were returned in the 10 day post election period, AND were counted.
A17: N | B17: Non-UOCAVA Ballots Counted - In Person | C17: 2656 | D17: =IF(C17="","Please input value","") | F17: VR System | G17: Non-UOCAVA ballots that were cast in person at the board of elections or the early vote center during the early voting period AND were counted.
A18: O | B18: Non-UOCAVA Ballots Rejected - Total | C18: =SUM(C19:C20) -> 23
A19: P | B19: Non-UOCAVA Ballots Rejected - Transmitted | C19: 23 | D19: =IF(C19="","Please input value","") | E19: =IF(C19=SUM(C24:C37),"PASS", "FAIL, P must equal the sum of T, U, V, W, X, Y, Z, AA, BB, CC, DD, EE, FF, GG") -> PASS | F19: VR System | G19: Non-UOCAVA ballots that were (1) hand-carried, (2) delivered to a voter in a nursing home, (3) delivered to a voter in a hospital, or (4) mailed AND were rejected.
A20: Q | B20: Non-UOCAVA Ballots Rejected - In Person | C20: 0 | D20: =IF(C20="","Please input value","") | F20: VR System | G20: Non-UOCAVA ballots that were cast in person at the board of elections or the early vote center during the early voting period AND were rejected.
A21: R | B21: Non-UOCAVA Ballots Returned By Voters And Submitted For Counting (Counted and Rejected) | C21: =SUM(C14,C18) -> 6636 | E21: =IF(C21=C8,"PASS","FAIL, R must equal F") -> PASS
A23: S | B23: Non UOCAVA Rejected - Transmitted | C23: =SUM(C24:C38) -> 23 | E23: =IF(C23=C19,"PASS","FAIL, S must equal P") -> PASS
A24: T | B24: Ballot Not Received on Time - No Postmark - Transmitted* | C24: 0 | D24: =IF(C24="","Please input value","") | F24: VR System | G24: Non-UOCAVA ballots rejected due to being placed in the board of elections dropbox after 7:30 PM on Election Day.
A25: U | B25: Ballot Not Received on Time - Postmarked on or after election day - Transmitted* | C25: 2 | D25: =IF(C25="","Please input value","") | F25: VR System | G25: Non-UOCAVA ballots rejected due to a late postmark.
A26: V | B26: Ballot Not Received on Time - Postmarked before day of election but received after 10th day - Transmitted* | C26: 0 | D26: =IF(C26="","Please input value","") | F26: VR System | G26: Non-UOCAVA ballots rejected due to arriving at the board of elections after the 10th day following Election Day.
A27: W | B27: Returned Without ID Envelope - Transmitted* | C27: 7 | D27: =IF(C27="","Please input value","") | F27: VR System | G27: Non-UOCAVA ballots rejected due to missing ID envelope.
A28: X | B28: Stub A Detached - Transmitted | C28: 1 | D28: =IF(C28="","Please input value","") | F28: VR System | G28: Non-UOCAVA ballots rejected due to Stub A detached.
A29: Y | B29: No Voter Signature - Transmitted | C29: 6 | D29: =IF(C29="","Please input value","") | F29: VR System | G29: Non-UOCAVA ballots rejected due to missing signature on the ID envelope.
A30: Z | B30: Non-Matching Signature - Transmitted | C30: 2 | D30: =IF(C30="","Please input value","") | F30: VR System | G30: Non-UOCAVA ballots rejected due to non-matching signature on the ID envelope.
A31: AA | B31: Non-Matching Name - Transmitted | C31: 2 | D31: =IF(C31="","Please input value","") | F31: VR System | G31: Non-UOCAVA ballots rejected due to non-matching name on the ID envelope.
A32: BB | B32: Voter ID Envelope Contains Insufficient Information - Transmitted | C32: 3 | D32: =IF(C32="","Please input value","") | F32: VR System | G32: Non-UOCAVA ballots rejected due to insufficient information on the ID envelope.
A33: CC | B33: Multiple Ballots Returned In One Envelope - Transmitted | C33: 0 | D33: =IF(C33="","Please input value","") | F33: VR System | G33: Non-UOCAVA ballots rejected due to multiple ballots being returned in one envelope.
A34: DD | B34: Voter Registration Cancelled or Merged Prior to Date Ballot Was Cast - Transmitted* | C34: 0 | D34: =IF(C34="","Please input value","") | F34: VR System | G34: Non-UOCAVA ballots rejected due to the voter being removed or merged out of the county prior to the date the ballot was cast.
A35: EE | B35: Voter Deceased Prior To Date Marked Ballot Was Cast - Transmitted | C35: 0 | D35: =IF(C35="","Please input value","") | F35: VR System | G35: Non-UOCAVA ballots rejected due to the ballot being marked after the voter has passed away.
... A37: GG | B37: Non First Time Voter Without Proper Identification - Transmitted | C37: 0 | D37: =IF(C37="","Please input value","") | F37: VR System | G37: Non-first time Non-UOCAVA ballots rejected due to voter providing improper identification.
A39: HH | B39: Non-UOCAVA Rejected - Total | C39: =SUM(C23) -> 23 | E39: =IF(C39=C18,"PASS","FAIL, HH must equal O") -> PASS
B41: Non-UOCAVA Overall Check | E41: =IF(OR(COUNTIF(E2:E39,"*"&"FAIL"&"*"), COUNTIF(D2:D39,"*"&"Please"&"*")),"INCOMPLETE", "COMPLETE") -> COMPLETE
B43: *Should not receive voter history

Sheet Non_UOCAVA Report Definitions
C1: Source for Data | D1: Data Definition
A2: A | B2: Non-UOCAVA Ballots - Transmitted | C2: VR System | D2: Non-UOCAVA ballots that were (1) hand-carried, (2) delivered to a voter in a nursing home, (3) delivered to a voter in a hospital, or (4) mailed.
A3: B | B3: Non-UOCAVA Ballots - Cast In Person (Do not include abandoned ballots) | C3: VR System | D3: Non-UOCAVA ballots that were cast in person at the Board of Elections or the Early Vote Center during the early voting period.
A4: C | B4: Non-UOCAVA Ballots Transmitted and Cast In Person
A5: D | B5: Non-UOCAVA In Person Absentee Abandoned Ballots | C5: VR System and EMS Report | D5: Non-UOCAVA voters that signed in at the Board of Elections or the Early Vote Center during the early voting period but failed to cast the ballot.
A7: E | B7: Returned By Voters And Submitted For Counting (Counted and Rejected) | C7: VR System | D7: Non-UOCAVA ballots that were (1) returned and submitting for counting (both counted and rejected) and (2) Non-UOCAVA ballots that were cast in person at the Board of Elections or the Early Vote Center during the early voting period.
A8: F | B8: Returned As Undeliverable | C8: VR System | D8: Non-UOCAVA ballots that were transmitted to the voter, and the ballot was returned undeliverable.
A9: G | B9: Returned Deceased - Ballot Unmarked | C9: VR System | D9: Non-UOCAVA ballots that were returned to the Board of Elections unmarked with the distinction that the voter has passed away.
A10: H | B10: Returned Spoiled Or Replaced Ballots | C10: VR System | D10: Non-UOCAVA ballots that were spoiled or replaced.
A11: I | B11: Neither Returned Undeliverable Nor Returned By The Voter | C11: VR System | D11: Non-UOCAVA ballots that were not returned to the Board of Elections.
A13: J | B13: Non-UOCAVA Ballots Counted
A14: K | B14: Non-UOCAVA Ballots Counted Transmitted | C14: VR System | D14: Non-UOCAVA ballots that were (1) hand-carried, (2) delivered to a voter in a nursing home, (3) delivered to a voter in a hospital, or (4) mailed AND were counted.
A15: L | B15: Non-UOCAVA Ballots Postmarked Timely and Received during 10 day Post Election Period Counted Transmitted (of the total Non-UOCAVA Ballots Counted Transmitted) | C15: VR System | D15: Non-UOCAVA ballots that were (1) hand-carried, (2) delivered to a voter in a nursing home, (3) delivered to a voter in a hospital, or (4) mailed, were returned in the 10 day post election period, AND were counted.
A16: M | B16: Non-UOCAVA Ballots Counted In Person | C16: VR System | D16: Non-UOCAVA ballots that were cast in person at the Board of Elections or the Early Vote Center during the early voting period AND were counted.
A17: N | B17: Non-UOCAVA Ballots Rejected | C17: CALCULATED WITHIN WORKBOOK | D17: CALCULATED WITHIN WORKBOOK
A18: O | B18: Non-UOCAVA Ballots Rejected Transmitted | C18: VR System | D18: Non-UOCAVA ballots that were (1) hand-carried, (2) delivered to a voter in a nursing home, (3) delivered to a voter in a hospital, or (4) mailed AND were rejected.
A19: P | B19: Non-UOCAVA Ballots Rejected In Person | C19: VR System | D19: Non-UOCAVA ballots that were cast in person at the Board of Elections or the Early Vote Center during the early voting period AND were rejected.
A20: Q | B20: Returned By Voters And Submitted For Counting (Counted and Rejected) | C20: CALCULATED WITHIN WORKBOOK | D20: CALCULATED WITHIN WORKBOOK
A22: R | B22: Non UOCAVA Rejected - Transmitted | C22: CALCULATED WITHIN WORKBOOK | D22: CALCULATED WITHIN WORKBOOK
A23: S | B23: Ballot Not Received on Time - No Postmark - Transmitted* | C23: VR System | D23: Non-UOCAVA ballots rejected due to being placed in the Board of Elections dropbox after 7:30 PM on Election Day.
A24: T | B24: Ballot Not Received on Time - Postmarked on or after election day - Transmitted* | C24: VR System | D24: Non-UOCAVA ballots rejected due to a late postmark.
A25: U | B25: Ballot Not Received on Time - Postmarked before day of election but received after 10th day - Transmitted* | C25: VR System | D25: Non-UOCAVA ballots rejected due to arriving at the Board of Elections after the 10th day following Election Day.
A26: V | B26: Returned Without ID Envelope - Transmitted* | C26: VR System | D26: Non-UOCAVA ballots rejected due to missing ID envelope.
... A38: GG | B38: Non-UOCAVA Rejected - Total | C38: CALCULATED WITHIN WORKBOOK | D38: CALCULATED WITHIN WORKBOOK

Sheet UOCAVA Instructions
A1: Instructions for Completing the UOCAVA Absentee Report
A2: 1. Using the information contained in the board's absentee tracking system, complete each field in column C that is highlighted in green. Cells that are highlighted in blue are calculated cells and do not require board input. Note that errors will appear until all data is input.
A3: 2. Helpful Reminders for Filling Out This Section: -Transmitted includes mailed, hand-carried, and delivered to a disabled, confined, or hospitalized voter. -UOCAVA Ballots Transmitted (Q) must equal UOCAVA Ballots Returned By Voters And Submitted For Counting (Counted and Rejected) (EE) + UOCAVA Ballots Returned As Undeliverable (FF) + UOCAVA Ballots Returned Deceased - Ballot Unmarked (JJ) + UOCAVA Ballots Neither Returned Undeliverable Nor Returned By The Voter (LL). -UOCAVA Ballots Postmarked Timely and Received during 10 day Post Election Period Counted Transmitted (WW) is a subset of UOCAVA Ballots Counted (VV).
A4: 3. If information in the UOCAVA absentee report does not balance or reconcile with other values, an error will be produced. Additionally, an error will be produced if the board omits a piece of required data.
A5: 4. Any errors must be corrected before the report workbook can be submitted to the Secretary of State. If the "UOCAVA Overall Check" reads "Incomplete" in Cell E113, there is an error on the tab that must be rectified. If the "UOCAVA Overall Check" reads "Complete" in Cell E113, the board should move on to the Provisional Report section.
A6: 5. Each absentee voter must receive credit/voter history for participating in the election unless the ballot was not timely returned, the ballot was rejected for being returned without an ID envelope, or the ballot was rejected due to reason "Voter Registration Cancelled or Merged Prior to Date Ballot Was Cast". For board ease, the aforementioned rows have been marked by an asterisk in the "UOCAVA Report" tab. The total number of UOCAVA absentee voters who should receive credit/voter history is calculated under the "Cumulative Report" tab and must match the number of voters who will receive credit/voter history by the board.

Sheet UOCAVA Report
C1: Data | D1: Data Input Validation | E1: Data Checks | F1: Source for Data | G1: Data Definition
A2: A | B2: FPCAs Received | C2: =SUM(C3,C6) -> 25
A3: B | B3: FPCAs Received Valid | C3: =SUM(C4:C5) -> 24
A4: C | B4: FPCAs Received Valid - Military | C4: 12 | D4: =IF(C4="","Please input value", "") | F4: VR System | G4: Valid Federal Post Card Applications received from Military voters.
A5: D | B5: FPCAs Received Valid - Overseas | C5: 12 | D5: =IF(C5="","Please input value", "") | F5: VR System | G5: Valid Federal Post Card Applications received from Overseas voters.
A6: E | B6: FPCAS Received Invalid | C6: =SUM(C7:C8) -> 1
A7: F | B7: FPCAs Received Invalid - Military | C7: 0 | D7: =IF(C7="","Please input value", "") | F7: VR System | G7: Invalid Federal Post Card Applications received from Military voters.
A8: G | B8: FPCAs Received Invalid - Overseas | C8: 1 | D8: =IF(C8="","Please input value", "") | F8: VR System | G8: Invalid Federal Post Card Applications received from Overseas voters.
A9: H | B9: FPCAs Rejected Past Deadline | C9: 0 | D9: =IF(C9="","Please input value", "")
A10: I | B10: Other UOCAVA Applications Received | C10: =SUM(C11,C14) -> 5
A11: J | B11: Other UOCAVA Applications Received Valid | C11: =SUM(C12:C13) -> 5
A12: K | B12: Other UOCAVA Applications Received Valid - Military | C12: 0 | D12: =IF(C12="","Please input value", "") | F12: VR System | G12: Valid Other Applications received from Military voters.
A13: L | B13: Other UOCAVA Applications Received Valid - Overseas | C13: 5 | D13: =IF(C13="","Please input value", "") | F13: VR System | G13: Valid Other Applications received from Overseas voters.
A14: M | B14: Other UOCAVA Applications Received Invalid | C14: =SUM(C15:C16) -> 0
A15: N | B15: Other UOCAVA Applications Received Invalid - Military | C15: 0 | D15: =IF(C15="","Please input value", "") | F15: VR System | G15: Invalid Other Applications received from Military voters.
A16: O | B16: Other UOCAVA Applications Received Invalid - Overseas | C16: 0 | D16: =IF(C16="","Please input value", "") | F16: VR System | G16: Invalid Other Applications received from Overseas voters.
A17: P | B17: Total UOCAVA Applications Received | C17: =SUM(C2,C10) -> 30
A19: Q | B19: UOCAVA Ballots Transmitted | C19: 29 | D19: =IF(C19="","Please input value","") | E19: =IF(AND(C19=SUM(C20,C24), C19=SUM(C34,C35,C39, C41),C19=SUM(C11,C3)), "PASS", "Fail, Q must equal R + V, Q must equal EE + FF + LL") -> PASS | F19: VR System | G19: UOCAVA ballots that were (1) mailed, (2) faxed, or (3) emailed.
A20: R | B20: UOCAVA Ballots Transmitted Military | C20: =SUM(C21, C22, C23) -> 12
A21: S | B21: UOCAVA Military Ballots Transmitted via Mail | C21: 4 | D21: =IF(C21="","Please input value","") | F21: VR System | G21: UOCAVA ballots that were mailed to Military voters.
A22: T | B22: UOCAVA Military Ballots Transmitted via Email | C22: 8 | D22: =IF(C22="","Please input value","") | F22: VR System | G22: UOCAVA ballots that were emailed to Military voters.
A23: U | B23: UOCAVA Military Ballots Transmitted via Fax | C23: 0 | D23: =IF(C23="","Please input value","") | F23: VR System | G23: UOCAVA ballots that were faxed to Military voters.
A24: V | B24: UOCAVA Ballots Transmitted Overseas | C24: =SUM(C25,C26,C27) -> 17
A25: W | B25: UOCAVA Overseas Ballots Transmitted via Mail | C25: 6 | D25: =IF(C25="","Please input value","") | F25: VR System | G25: UOCAVA ballots that were mailed to Overseas voters.
A26: X | B26: UOCAVA Overseas Ballots Transmitted via Email | C26: 11 | D26: =IF(C26="","Please input value","") | F26: VR System | G26: UOCAVA ballots that were emailed to Overseas voters.
A27: Y | B27: UOCAVA Overseas Ballots Transmitted via Fax | C27: 0 | D27: =IF(C27="","Please input value","") | F27: VR System | G27: UOCAVA ballots that were faxed to Overseas voters.
A28: Z | B28: UOCAVA Ballots Transmitted via Mail | C28: =SUM(C21,C25) -> 10
A29: AA | B29: UOCAVA Ballots Transmitted via Email | C29: =SUM(C22,C26) -> 19
A30: BB | B30: UOCAVA Ballots Transmitted via Fax | C30: =SUM(C23,C27) -> 0
A31: CC | B31: UOCAVA Cast In Person (Do not include abandoned ballots) | C31: 0 | D31: =IF(C31="","Please input value","") | F31: VR System | G31: UOCAVA ballots that were cast in person at the board of elections or the early vote center during the early voting period.
A32: DD | B32: UOCAVA In-Person Absentee Abandoned Ballots | C32: 0 | D32: =IF(C32="","Please input value","") | F32: VR System and EMS Report | G32: UOCAVA voters that signed in at the board of elections or the early vote center during the early voting period but failed to cast the ballot.
A34: EE | B34: UOCAVA Ballots Returned By Voters and Submitting for Counting (Counted and Rejected) | C34: 22 | D34: =IF(C34="","Please input value","") | E34: =IF(C34=SUM(C53,C63),"PASS","FAIL, EE must equal VV + EEE") -> PASS | F34: VR System | G34: UOCAVA ballots that were transmitted to the voter and returned and submitted for counting (both counted and rejected)
A35: FF | B35: UOCAVA Ballots Returned As Undeliverable | C35: =SUM(C36:C38) -> 0
A36: GG | B36: UOCAVA Ballots Returned As Undeliverable via mail | C36: 0 | D36: =IF(C36="","Please input value","") | F36: VR System | G36: UOCAVA ballots that were transmitted to the voter by mail, and the ballot was returned undeliverable.
A37: HH | B37: UOCAVA Ballots Returned As Undeliverable via email | C37: 0 | D37: =IF(C37="","Please input value","") | F37: VR System | G37: UOCAVA ballots that were transmitted to the voter by email, and the ballot was returned undeliverable.
A38: II | B38: UOCAVA Ballots Returned As Undeliverable via fax | C38: 0 | D38: =IF(C38="","Please input value","") | F38: VR System | G38: UOCAVA ballots that were transmitted to the voter by fax, and the ballot was returned undeliverable.
A39: JJ | B39: UOCAVA Ballots Returned Deceased - Ballot Unmarked | C39: 0 | D39: =IF(C39="","Please input value","") | F39: VR System | G39: UOCAVA ballots that were returned to the board of elections unmarked with the distinction that the voter has passed away.
A40: KK | B40: UOCAVA Ballots Spoiled Or Replaced Ballots | C40: 0 | D40: =IF(C40="","Please input value","") | F40: VR System | G40: UOCAVA ballots that were spoiled or replaced.
A41: LL | B41: UOCAVA Ballots Neither Returned Undeliverable Nor Returned By The Voter | C41: 7 | D41: =IF(C41="","Please input value","") | F41: VR System | G41: UOCAVA ballots that were not returned to the board of elections.
A42: MM | B42: Total UOCAVA Ballots Returned And Not Returned | C42: =SUM(C41,C40,C34) -> 29
...

Sheet UOCAVA Report Definitions
C1: Source for Data | D1: Data Definition
A2: A | B2: FPCAs Received | C2: CALCULATED WITHIN WORKBOOK | D2: CALCULATED WITHIN WORKBOOK
A3: B | B3: FPCAs Received Valid | C3: CALCULATED WITHIN WORKBOOK | D3: CALCULATED WITHIN WORKBOOK
A4: C | B4: FPCAs Received Military Valid | C4: VR System | D4: Valid Federal Post Card Applications received from Military voters.
A5: D | B5: FPCAs Received Overseas Valid | C5: VR System | D5: Valid Federal Post Card Applications received from Overseas voters.
A6: E | B6: FPCAS Received Invalid | C6: CALCULATED WITHIN WORKBOOK | D6: CALCULATED WITHIN WORKBOOK
A7: F | B7: FPCAs Received Military Invalid | C7: VR System | D7: Invalid Federal Post Card Applications received from Military voters.
A8: G | B8: FPCAs Received Overseas Invalid | C8: VR System | D8: Invalid Federal Post Card Applications received from Overseas voters.
A9: H | B9: FPCAs Rejected Past Deadline | C9: CALCULATED WITHIN WORKBOOK | D9: CALCULATED WITHIN WORKBOOK
A10: I | B10: Other UOCAVA Applications Received | C10: CALCULATED WITHIN WORKBOOK | D10: CALCULATED WITHIN WORKBOOK
A11: J | B11: Other UOCAVA Applications Received Valid | C11: CALCULATED WITHIN WORKBOOK | D11: CALCULATED WITHIN WORKBOOK
A12: K | B12: Other UOCAVA Applications Received Military Valid | C12: VR System | D12: Valid Other Applications received from Military voters.
A13: L | B13: Other UOCAVA Applications Received Overseas Valid | C13: VR System | D13: Valid Other Applications received from Overseas voters.
... A45: OO | B45: UOCAVA Returned By Voters And Submitted For Counting (Counted and Rejected) - Non FWAB | C45: CALCULATED WITHIN WORKBOOK | D45: CALCULATED WITHIN WORKBOOK
A46: PP | B46: UOCAVA Returned By Voters And Submitted For Counting (Counted and Rejected) - Military Non FWAB | D46: UOCAVA (Military non FWAB) ballots that were (1) returned and submitting for counting (both counted and rejected) and (2) UOCAVA ballots that were cast in person at the Board of Elections or the Early Vote Center during the early voting period.
A47: QQ | B47: UOCAVA Returned By Voters And Submitted For Counting (Counted and Rejected) - Overseas Non FWAB | D47: UOCAVA (Overseas non FWAB) ballots that were (1) returned and submitting for counting (both counted and rejected) and (2) UOCAVA ballots that were cast in person at the Board of Elections or the Early Vote Center during the early voting period.
A48: RR | B48: UOCAVA Returned By Voters And Submitted For Counting (Counted and Rejected) - FWAB | C48: CALCULATED WITHIN WORKBOOK | D48: CALCULATED WITHIN WORKBOOK
A49: SS | B49: UOCAVA Returned By Voters And Submitted For Counting (Counted and Rejected) - Military FWAB | D49: UOCAVA (Military FWAB) ballots that were (1) returned and submitting for counting (both counted and rejected) and (2) UOCAVA ballots that were cast in person at the Board of Elections or the Early Vote Center during the early voting period.
A50: TT | B50: UOCAVA Returned By Voters And Submitted For Counting (Counted and Rejected) - Overseas FWAB | D50: UOCAVA (Overseas FWAB) ballots that were (1) returned and submitting for counting (both counted and rejected) and (2) UOCAVA ballots that were cast in person at the Board of Elections or the Early Vote Center during the early voting period.
A51: UU | B51: UOCAVA Returned Returned By Voters And Submitted For Counting (Counted and Rejected) - Total | C51: CALCULATED WITHIN WORKBOOK | D51: CALCULATED WITHIN WORKBOOK
A53: VV | B53: UOCAVA Ballots Counted - Total | D53: UOCAVA ballots that were counted.
A54: WW | B54: UOCAVA Ballots Postmarked Timely and Received during 10 day Post Election Period Counted Transmitted (of the total UOCAVA Ballots Counted) | D54: UOCAVA ballots that were (1) mailed, (2) emailed, or (3) faxed, were returned in the 10 day post election period, AND were counted.
A55: XX | B55: UOCAVA Ballots Counted - Total Non FWAB | C55: CALCULATED WITHIN WORKBOOK | D55: CALCULATED WITHIN WORKBOOK
A56: YY | B56: UOCAVA Ballots Counted - Military Non FWAB | D56: UOCAVA (Military non FWAB) ballots that were counted.
A57: ZZ | B57: UOCAVA Ballots Counted - Overseas Non FWAB | D57: UOCAVA (Overseas non FWAB) ballots that were counted.
A58: AAA | B58: UOCAVA Ballots Counted - Total FWAB | C58: CALCULATED WITHIN WORKBOOK | D58: CALCULATED WITHIN WORKBOOK
A59: BBB | B59: UOCAVA Ballots Counted - Military FWAB | D59: UOCAVA (Military FWAB) ballots that were counted.
A60: CCC | B60: UOCAVA Ballot Counted - Overseas FWAB | D60: UOCAVA (Overseas FWAB) ballots that were counted.
A61: DDD | B61: UOCAVA Ballots Counted - Total | C61: CALCULATED WITHIN WORKBOOK | D61: CALCULATED WITHIN WORKBOOK
A63: EEE | B63: UOCAVA Rejected - Total | D63: UOCAVA ballots rejected.
A64: FFF | B64: UOCAVA Rejected Not Received On Time/Missed Deadline* - Total | C64: CALCULATED WITHIN WORKBOOK | D64: CALCULATED WITHIN WORKBOOK
A65: GGG | B65: UOCAVA Rejected Not Received On Time/Missed Deadline* - Non FWAB | D65: UOCAVA (non FWAB) ballots rejected due late return.
A66: HHH | B66: UOCAVA Rejected Not Received On Time/Missed Deadline* - FWAB | D66: UOCAVA (FWAB) ballots rejected due late return.
A67: III | B67: UOCAVA Rejected Returned Without ID Envelope* - Total | C67: CALCULATED WITHIN WORKBOOK | D67: CALCULATED WITHIN WORKBOOK
A68: JJJ | B68: UOCAVA Rejected Returned Without ID Envelope* - Non FWAB | D68: UOCAVA (non FWAB) ballots rejected due to missing ID envelope.
A69: KKK | B69: UOCAVA Rejected Returned Without ID Envelope* - FWAB | D69: UOCAVA (FWAB) ballots rejected due to missing ID envelope.
A70: LLL | B70: UOCAVA Rejected Stub A Detached - Total | C70: CALCULATED WITHIN WORKBOOK | D70: CALCULATED WITHIN WORKBOOK
A71: MMM | B71: UOCAVA Rejected Stub A Detached - Non FWAB | D71: UOCAVA (non FWAB) ballots rejected due to Stub A detached.
A72: NNN | B72: UOCAVA Rejected Stub A Detached - FWAB | D72: UOCAVA (FWAB) ballots rejected due to Stub A detached.
A73: OOO | B73: UOCAVA Rejected No Voter Signature - Total | C73: CALCULATED WITHIN WORKBOOK | D73: CALCULATED WITHIN WORKBOOK
...

Sheet Provisional Instructions
A1: Instructions for Completing the Provisional Report
A2: 1. Using the information contained in the board's provisional tracking system, complete each field in column C that is highlighted in green. Cells that are highlighted in blue are calculated cells and do not require board input. Note that errors will appear until all data is input.
A3: 2. If information in the Provisional report does not balance or reconcile with other values, an error will be produced. Additionally, an error will be produced if the board omits a piece of required data.
A4: 3. Any errors must be corrected before the report workbook can be submitted to the Secretary of State. If the "Provisional Overall Check" reads "Incomplete" in Cell E24, there is an error on the tab that must be rectified. If the "Provisional Overall Check" reads "Complete" in Cell E24, the board should move on to the Cumulative Report section.
A5: 4. Each provisional voter must receive credit/voter history for participating in the election unless the provisional ballot was rejected because the voter had already voted. For board ease, this row has been marked with by an asterisk in the "Provisional Report" tab. The total number of provisional voters that should receive voter history is calculated under the "Cumulative Report" tab and must match the number of voters who will receive credit/voter history by the board.

Sheet Provisional Report
C1: Data | D1: Data Input Validation | E1: Data Checks
A2: A | B2: Total Provisional Ballots Cast | C2: 265 | D2: =IF(C2="","Please input value","") | E2: =IF(C2=SUM(C3,C10),"PASS","FAIL, A must equal B + I") -> PASS
A3: B | B3: Total Provisional Ballots Counted | C3: =SUM(C4:C9) -> 233 | D3: =IF(C3="","Please input value","") | E3: =IF(C3=SUM(C4:C9),"PASS","FAIL, B must equal sum of C, D, E, F, G, H") -> PASS
A4: C | B4: Counted Full Ballot | C4: 232 | D4: =IF(C4="","Please input value","")
A5: D | B5: Counted Partial Ballot | C5: 0 | D5: =IF(C5="","Please input value","")
A6: E | B6: Counted - APRI 2011 | C6: 0 | D6: =IF(C6="","Please input value","")
A7: F | B7: Counted - APRI 2013 | C7: 1 | D7: =IF(C7="","Please input value","")
A8: G | B8: Counted - APRI 2015 | C8: 0 | D8: =IF(C8="","Please input value","")
A9: H | B9: Counted - APRI 2019 | C9: 0 | D9: =IF(C9="","Please input value","")
A10: I | B10: Provisional Ballots Rejected | C10: 32 | D10: =IF(C10="","Please input value","") | E10: =IF(C10=SUM(C11:C22),"PASS","FAIL, I must equal sum of J-U") -> PASS
A11: J | B11: Rejected - Not Registered in State | C11: 22 | D11: =IF(C11="","Please input value","")
A12: K | B12: Rejected - Voter Registered in State, Wrong Precinct and Polling Location | C12: 1 | D12: =IF(C12="","Please input value","")
A13: L | B13: Rejected - Voter Registered in State, Voted In Correct Polling Place but Wrong Precinct - Voter Provided a Completed Form 12-D) | C13: 0 | D13: =IF(C13="","Please input value","")
A14: M | B14: Rejected - Voter Failed to Sign the Provisional Envelope | C14: 0 | D14: =IF(C14="","Please input value","")
A15: N | B15: Rejected - Voter Failed to Print Full Name on the Provisional Envelope | C15: 0 | D15: =IF(C15="","Please input value","")
A16: O | B16: Rejected - Voter Failed to Provide the Current Address | C16: 3 | D16: =IF(C16="","Please input value","")
A17: P | B17: Rejected - Voter Failed to Provide Identification | C17: 5 | D17: =IF(C17="","Please input value","")
A18: Q | B18: Rejected - Non-Matching Signature on the Provisional Envelope | C18: 1 | D18: =IF(C18="","Please input value","")
A19: R | B19: Rejected - Ballot Missing From Provisional Envelope | C19: 0 | D19: =IF(C19="","Please input value","")
A20: S | B20: Rejected - Voter Already Voted* | C20: 0 | D20: =IF(C20="","Please input value","")
A21: T | B21: Rejected - Challenge to Voter's Eligibility or Registration Upheld | C21: 0 | D21: =IF(C21="","Please input value","")
A22: U | B22: Rejected - Missing or Incorrect Date of Birth (that does not meet requirements) | C22: 0 | D22: =IF(C22="","Please input value","")
B24: Provisional Overall Check | E24: =IF(OR(COUNTIF(E2:E22,"*"&"FAIL"&"*"), COUNTIF(D2:D22,"*"&"Please"&"*")),"INCOMPLETE", "COMPLETE") -> COMPLETE
B26: *Should not receive voter history

Sheet Provisional Report Definitions
C1: Source for Data | D1: Data Definition
A2: A | B2: Total Provisional Ballots Cast | D2: Provisional ballots cast (counted and rejected).
A3: B | B3: Total Provisional Ballots Counted | D3: Provisional ballots counted.
A4: C | B4: Counted Full Ballot | D4: Provisional ballots counted - Full
A5: D | B5: Counted Partial Ballot | D5: Provisional ballots counted - Partial
A6: E | B6: Counted - APRI 2011 | D6: Provisional ballots counted under APRI 2011
A7: F | B7: Counted - APRI 2013 | D7: Provisional ballots counted under APRI 2013
A8: G | B8: Counted - APRI 2015 | D8: Provisional ballots counted under APRI 2015
A9: H | B9: Counted - APRI 2019 | D9: Provisional ballots counted under APRI 2019
A10: I | B10: Provisional Ballots Rejected
A11: J | B11: Rejected - Not Registered in State | D11: Provisional ballots rejected because the voter is not registered in the state.
A12: K | B12: Rejected - Voter Registered in State, Wrong Precinct and Polling Location | D12: Provisional ballots rejected because the voter is registered.
A13: L | B13: Rejected - Voter Registered in State, Voted In Correct Polling Place but Wrong Precinct - Voter Provided a Completed Form 12-D)
A14: M | B14: Rejected - Voter Failed to Sign the Provisional Envelope
A15: N | B15: Rejected - Voter Failed to Print Full Name on the Provisional Envelope
A16: O | B16: Rejected - Voter Failed to Provide the Current Address
A17: P | B17: Rejected - Voter Failed to Provide Identification
A18: Q | B18: Rejected - Non-Matching Signature on the Provisional Envelope
A19: R | B19: Rejected - Ballot Missing From Provisional Envelope
A20: S | B20: Rejected - Voter Already Voted*
A21: T | B21: Rejected - Challenge to Voter's Eligibility or Registration Upheld
A22: U | B22: Rejected - Missing or Incorrect Date of Birth (that does not meet requirements)
B24: Provisional Overall Check | D24: =IF(OR(COUNTIF(D2:D22,"*"&"FAIL"&"*"), COUNTIF(C2:C22,"*"&"Please"&"*")),"INCOMPLETE", "COMPLETE") -> COMPLETE
B26: *Should not receive voter history

Sheet Cumulative Report Instructions
A1: Instructions for Completing the Official Certification Report
A2: 1. Complete the following on the Cumulative Report by providing: -Absentee Counted Per EMS -Provisional Counted Per EMS -Election Day Counted Per EMS -Election Day Abandoned Ballots -Total Ballots Cast (Per Tabulated Results From Official Canvass)
A3: 2. Any errors must be corrected before the report workbook can be submitted to the Secretary of State. If the "Overall Check" reads "Incomplete" in Cell D24, there is an error on either the Cumulative Report tab, Provisional Report tab, UOCAVA Report tab, or the Non_UOCAVA Report tab. The tab with the error must be rectified. If the "Overall Check" reads "Complete" in Cell D24, the board should save the Excel Workbook and submit to the the Secretary of State's Office.
A4: 3. It is possible that there will be an explainable discrepancy between the data as reported in the Non_UOCAVA Report tab, UOCAVA Report tab, and the Provisional Report tab when compared to data from the county EMS. If this happens, please provide a typed explanation for the discrepancy in Cell B18. This type of explainable discrepancy will prevent the "Overall Check" on the Cumulative Report tab from reading as "Complete". If the board believes this explainable discrepancy is the only piece of data causing the "Overall Check" to read as "Incomplete", then the board can submit the workbook to the Secretary of State's Office. Prior to submitting, please make sure to review the Non_UOCAVA Report tab, UOCAVA Report tab, and the Provisional Report tab to ensure that there is not anything flagged as needing further review.

Sheet Election Day Instructions
A1: Instructions for Completing the Election Day Report
A2: 1. Using the information contained in the board's election management system and the electronic poll book or signature book, complete each field. Note that errors will appear until all data is input.
A3: 2. If information in the report does not balance or reconcile with other values, an error will be produced.
A4: 3. Any errors must be corrected before the report workbook can be submitted to the Secretary of State.
A5: 4. Each election day voter who signed the poll book must receive credit/voter history for participating in the election - see page 8-25 of the EOM. This total is calculated under the "Cumulative Report" tab and must match the number of voters who will receive credit/voter history by the board.

Sheet Election Day Report
C1: Data | D1: Data Input Validation | E1: Data Checks | F1: Describe
A2: A | B2: Number of Voters - Signed Poll Book | C2: 0 | D2: =IF(C2="", "Please input value","")
A3: B | B3: Number of Voters - Election Day Regular Ballots Counted | C3: 0 | D3: =IF(C3="", "Please input value","")
A4: C | B4: Total Discrepancies | C4: =SUM(C5:C6) -> 0
A5: D | B5: Unresolved Discrepancies | C5: 0 | D5: =IF(C5="", "Please input value","") | E5: =IF(C5<>0,"FAIL","PASS") -> PASS
A6: E | B6: Resolved Discrepancies | C6: 0 | D6: =IF(C6="", "Please input value","") | E6: =IF(C6=0,"PASS","FAIL") -> PASS
A7: F | B7: Number of Voters - Failed to Capture Signature | C7: 0 | D7: =IF(C7="", "Please input value","")
A8: G | B8: Number of Ballots - Page 1 not scanned | C8: 0 | D8: =IF(C8="", "Please input value","")
A9: H | B9: Number of Provisional Ballots - Incorrectly Scanned in Ballot Scanner | C9: 0 | D9: =IF(C9="", "Please input value","")
A10: I | B10: Number of Abandoned Transactions - Voter did not cast ballot (fleeing voter) | C10: 0 | D10: =IF(C10="", "Please input value","")
A11: J | B11: Other - Please describe in free form box in the far right column | C11: 0 | D11: =IF(C11="", "Please input value","")
B13: ELECTION DAY OVERALL CHECK | E13: =IF(OR(COUNTIF(E2:E11,"*"&"BAD"&"*"), COUNTIF(D2:D11,"*"&"Please"&"*")),"INCOMPLETE", "COMPLETE") -> COMPLETE

Sheet Cumulative Report
B1: Data | C1: Data Input Validation | D1: Data Description/Data Checks | E1: Source for Data | F1: Data Definition
A2: In Person Absentee Cast | B2: ='Non_UOCAVA Report'!C3+'UOCAVA Report'!C31 -> 2679 | D2: "Non-UOCAVA Ballots Cast In Person" + "UOCAVA Ballots Cast In Person"
A3: By Mail Absentee Cast | B3: ='Non_UOCAVA Report'!C15+'UOCAVA Report'!C44+'Non_UOCAVA Report'!C18 -> 4002 | D3: "Non-UOCAVA Ballots Counted - Transmitted" + "Non-UOCAVA Ballots Rejected - Transmitted" + "UOCAVA Returned - Total FWAB and Non-FWAB"
A4: Provisional Cast | B4: ='Provisional Report'!C2 -> 265 | D4: Total Provisional Ballots Cast
A5: Election Day Cast | B5: =B16-SUM(B7,B8,B10) -> 11884 | D5: "Total Ballots Counted" - "In Person Absentee Counted" - "By Mail Absentee Ballots Counted" - "Provisional Counted"
A6: Total Ballots Cast | B6: =SUM(B2:B5) -> 18830 | C6: =IF(B6="","Please input data","") | D6: "In Person Absentee Cast" + "By Mail Absentee Cast" + "Provisional Cast" + "Election Day Cast"
A7: In Person Absentee Counted | B7: =('Non_UOCAVA Report'!C17+'UOCAVA Report'!C31) -> 2656 | D7: "Non-UOCAVA Ballots Counted In Person" + "UOCAVA Ballots Cast In Person"
A8: By Mail Absentee Ballots Counted | B8: =('Non_UOCAVA Report'!C15+'UOCAVA Report'!C53) -> 3979 | D8: "Non-UOCAVA Ballots Counted Transmitted" + "UOCAVA Return - Total" - "UOCAVA Rejected - Total"
A9: Absentee Counted Per EMS | B9: 6635 | C9: =IF(B9="","Please input data","") | D9: =IF(B9=SUM(B8,B7), "PASS", "FAIL, In Person Absentee Counted + By Mail Absentee Counted must equal Absentee Counted Per EMS") -> PASS | E9: EMS Report | F9: Number of Absentee ballots counted per Election Management System report.
A10: Provisional Counted | B10: ='Provisional Report'!C3 -> 233
A11: Provisional Counted Per EMS | B11: 233 | C11: =IF(B11="","Please input data","") | D11: =IF(B10=B11,"PASS", "FAIL, Provisional Counted must equal Provisional Counted Per EMS") -> PASS | E11: EMS Report | F11: Number of Provisional ballots counted per Election Management System report.
A12: Election Day Counted | B12: =B5 -> 11884
A13: Election Day Counted Per EMS | B13: 11884 | C13: =IF(B13="","Please input data","") | D13: =IF(B13=B12,"PASS", "FAIL, Election Day Counted must equal Election Day Counted Per EMS") -> PASS | E13: EMS Report | F13: Number of Election Day ballots counted per Election Management System report.
A14: Election Day Abandoned Ballots | B14: 0 | C14: =IF(B14="","Please input data","") | E14: Pollbook | F14: Number of Election Day voters that signed in at the polling location but failed to cast the ballot.
A15: Total Ballots Counted | B15: =SUM(B7,B8,B10,B12) -> 18752
A16: Total Ballots Counted (Per Tabulated Results From Official Canvass) | B16: 18752 | C16: =IF(B16="","Please input data","") | D16: =IF(B15=B16,"PASS","FAIL, Total Ballots Counted must equal Election Day Ballots Counted + In Person Absentee Counted + By Mail Absentee Ballots Counted + Provisional Counted") -> PASS | E16: EMS Report | F16: Number of Election Day ballots counted per Election Management System report.
A17: Difference Between Official Canvass and Reports | B17: =B16-B15 -> 0
A18: Reason for any disrepancies between report data and EMS data.
A19: Absentee Voters Receiving Voter History - As Calculated from Reports | B19: ='Non_UOCAVA Report'!C21-'Non_UOCAVA Report'!C24-'Non_UOCAVA Report'!C25-'Non_UOCAVA Report'!C26-'Non_UOCAVA Report'!C27 +'Non_UOCAVA Report'!C5+'UOCAVA Report'!C51-'UOCAVA Report'!C64-'UOCAVA Report'!C67+'UOCAVA Report'!C32+'UOCAVA Report'!C31 -> 6649
A20: Provisional Voters Receiving Voter History - As Calculated from Reports | B20: ='Provisional Report'!C2-'Provisional Report'!C20 -> 265
A21: Election Day Voters Receiving Voter History | B21: =B14+B12 -> 11884
A24: OVERALL CHECK | D24: =IF(OR(COUNTIF(D2:D20,"*"&"FAIL"&"*"), COUNTIF(C2:C20,"*"&"Please"&"*"),'Non_UOCAVA Report'!E41="INCOMPLETE",'UOCAVA Report'!E113="INCOMPLETE",'Provisional Report'!E24="INCOMPLETE"), "INCOMPLETE", "COMPLETE") -> COMPLETE

Sheet Cumulative Report Definitions
B1: Source for Data | C1: Data Definition
A2: In Person Absentee Cast | B2: CALCULATED WITHIN WORKBOOK | C2: CALCULATED WITHIN WORKBOOK
A3: By Mail Absentee Cast | B3: CALCULATED WITHIN WORKBOOK | C3: CALCULATED WITHIN WORKBOOK
A4: Provisional Cast | B4: CALCULATED WITHIN WORKBOOK | C4: CALCULATED WITHIN WORKBOOK
A5: Election Day Cast | B5: CALCULATED WITHIN WORKBOOK | C5: CALCULATED WITHIN WORKBOOK
A6: Total Ballots Cast | B6: CALCULATED WITHIN WORKBOOK | C6: CALCULATED WITHIN WORKBOOK
A7: In Person Absentee Counted | B7: CALCULATED WITHIN WORKBOOK | C7: CALCULATED WITHIN WORKBOOK
A8: By Mail Absentee Ballots Counted | B8: CALCULATED WITHIN WORKBOOK | C8: CALCULATED WITHIN WORKBOOK
A9: Absentee Counted Per EMS | B9: EMS Report | C9: Number of Absentee ballots counted per Election Management System report.
A10: Provisional Counted | B10: CALCULATED WITHIN WORKBOOK | C10: CALCULATED WITHIN WORKBOOK
A11: Provisional Counted Per EMS | B11: EMS Report | C11: Number of Provisional ballots counted per Election Management System report.
A12: Election Day Counted | B12: CALCULATED WITHIN WORKBOOK | C12: CALCULATED WITHIN WORKBOOK
A13: Election Day Counted Per EMS | B13: EMS Report | C13: Number of Election Day ballots counted per Election Management System report.
... A18: Provisional Voters Receiving Voter History - As Calculated from Reports | B18: CALCULATED WITHIN WORKBOOK | C18: CALCULATED WITHIN WORKBOOK
